BEGIN:VCALENDAR
VERSION:2.0
PRODID:-//Village Cove - ECPv5.14.1//NONSGML v1.0//EN
CALSCALE:GREGORIAN
METHOD:PUBLISH
X-WR-CALNAME:Village Cove
X-ORIGINAL-URL:https://villagecove.net
X-WR-CALDESC:Events for Village Cove
REFRESH-INTERVAL;VALUE=DURATION:PT1H
X-Robots-Tag:noindex
X-PUBLISHED-TTL:PT1H
BEGIN:VTIMEZONE
TZID:America/Los_Angeles
BEGIN:DAYLIGHT
TZOFFSETFROM:-0800
TZOFFSETTO:-0700
TZNAME:PDT
DTSTART:20190310T100000
END:DAYLIGHT
BEGIN:STANDARD
TZOFFSETFROM:-0700
TZOFFSETTO:-0800
TZNAME:PST
DTSTART:20191103T090000
END:STANDARD
END:VTIMEZONE
BEGIN:VEVENT
DTSTART;TZID=America/Los_Angeles:20191101T200000
DTEND;TZID=America/Los_Angeles:20191101T200000
DTSTAMP:20260424T062054
CREATED:20180716T225611Z
LAST-MODIFIED:20180716T225611Z
UID:1436-1572638400-1572638400@villagecove.net
SUMMARY:Karaoke at Saddleback!
DESCRIPTION:
URL:https://villagecove.net/event/karaoke-at-saddleback-2019-11-01/
LOCATION:Saddleback Inn\, 282 S. State HWY 173\, Lake Arrowhead\, CA\, 92352\, United States
END:VEVENT
BEGIN:VEVENT
DTSTART;TZID=America/Los_Angeles:20191105T200000
DTEND;TZID=America/Los_Angeles:20191105T200000
DTSTAMP:20260424T062054
CREATED:20180716T225611Z
LAST-MODIFIED:20180716T231914Z
UID:1331-1572984000-1572984000@villagecove.net
SUMMARY:Karaoke at Saddleback!
DESCRIPTION:
URL:https://villagecove.net/event/karaoke-at-saddleback-2019-11-05/
LOCATION:Saddleback Inn\, 282 S. State HWY 173\, Lake Arrowhead\, CA\, 92352\, United States
END:VEVENT
BEGIN:VEVENT
DTSTART;TZID=America/Los_Angeles:20191108T200000
DTEND;TZID=America/Los_Angeles:20191108T200000
DTSTAMP:20260424T062054
CREATED:20180716T225611Z
LAST-MODIFIED:20180716T225611Z
UID:1437-1573243200-1573243200@villagecove.net
SUMMARY:Karaoke at Saddleback!
DESCRIPTION:
URL:https://villagecove.net/event/karaoke-at-saddleback-2019-11-08/
LOCATION:Saddleback Inn\, 282 S. State HWY 173\, Lake Arrowhead\, CA\, 92352\, United States
END:VEVENT
BEGIN:VEVENT
DTSTART;TZID=America/Los_Angeles:20191112T200000
DTEND;TZID=America/Los_Angeles:20191112T200000
DTSTAMP:20260424T062054
CREATED:20180716T225611Z
LAST-MODIFIED:20180716T231914Z
UID:1332-1573588800-1573588800@villagecove.net
SUMMARY:Karaoke at Saddleback!
DESCRIPTION:
URL:https://villagecove.net/event/karaoke-at-saddleback-2019-11-12/
LOCATION:Saddleback Inn\, 282 S. State HWY 173\, Lake Arrowhead\, CA\, 92352\, United States
END:VEVENT
BEGIN:VEVENT
DTSTART;TZID=America/Los_Angeles:20191115T200000
DTEND;TZID=America/Los_Angeles:20191115T200000
DTSTAMP:20260424T062054
CREATED:20180716T225611Z
LAST-MODIFIED:20180716T225611Z
UID:1438-1573848000-1573848000@villagecove.net
SUMMARY:Karaoke at Saddleback!
DESCRIPTION:
URL:https://villagecove.net/event/karaoke-at-saddleback-2019-11-15/
LOCATION:Saddleback Inn\, 282 S. State HWY 173\, Lake Arrowhead\, CA\, 92352\, United States
END:VEVENT
BEGIN:VEVENT
DTSTART;TZID=America/Los_Angeles:20191118T170000
DTEND;TZID=America/Los_Angeles:20191118T173000
DTSTAMP:20260424T062054
CREATED:20180716T232830Z
LAST-MODIFIED:20180716T233021Z
UID:1592-1574096400-1574098200@villagecove.net
SUMMARY:Executive Committee Meeting
DESCRIPTION:
URL:https://villagecove.net/event/executive-committee-meeting-2019-11-18/
LOCATION:Lake Arrowhead\, CA\, 92352\, United States
END:VEVENT
BEGIN:VEVENT
DTSTART;TZID=America/Los_Angeles:20191119T200000
DTEND;TZID=America/Los_Angeles:20191119T200000
DTSTAMP:20260424T062054
CREATED:20180716T225611Z
LAST-MODIFIED:20180716T231914Z
UID:1333-1574193600-1574193600@villagecove.net
SUMMARY:Karaoke at Saddleback!
DESCRIPTION:
URL:https://villagecove.net/event/karaoke-at-saddleback-2019-11-19/
LOCATION:Saddleback Inn\, 282 S. State HWY 173\, Lake Arrowhead\, CA\, 92352\, United States
END:VEVENT
BEGIN:VEVENT
DTSTART;TZID=America/Los_Angeles:20191122T200000
DTEND;TZID=America/Los_Angeles:20191122T200000
DTSTAMP:20260424T062054
CREATED:20180716T225611Z
LAST-MODIFIED:20180716T225611Z
UID:1439-1574452800-1574452800@villagecove.net
SUMMARY:Karaoke at Saddleback!
DESCRIPTION:
URL:https://villagecove.net/event/karaoke-at-saddleback-2019-11-22/
LOCATION:Saddleback Inn\, 282 S. State HWY 173\, Lake Arrowhead\, CA\, 92352\, United States
END:VEVENT
BEGIN:VEVENT
DTSTART;TZID=America/Los_Angeles:20191126T200000
DTEND;TZID=America/Los_Angeles:20191126T200000
DTSTAMP:20260424T062054
CREATED:20180716T225611Z
LAST-MODIFIED:20180716T231914Z
UID:1334-1574798400-1574798400@villagecove.net
SUMMARY:Karaoke at Saddleback!
DESCRIPTION:
URL:https://villagecove.net/event/karaoke-at-saddleback-2019-11-26/
LOCATION:Saddleback Inn\, 282 S. State HWY 173\, Lake Arrowhead\, CA\, 92352\, United States
END:VEVENT
BEGIN:VEVENT
DTSTART;TZID=America/Los_Angeles:20191129T200000
DTEND;TZID=America/Los_Angeles:20191129T200000
DTSTAMP:20260424T062054
CREATED:20180716T225611Z
LAST-MODIFIED:20180716T225611Z
UID:1440-1575057600-1575057600@villagecove.net
SUMMARY:Karaoke at Saddleback!
DESCRIPTION:
URL:https://villagecove.net/event/karaoke-at-saddleback-2019-11-29/
LOCATION:Saddleback Inn\, 282 S. State HWY 173\, Lake Arrowhead\, CA\, 92352\, United States
END:VEVENT
END:VCALENDAR