BEGIN:VCALENDAR
VERSION:2.0
PRODID:-//Village Cove - ECPv5.14.1//NONSGML v1.0//EN
CALSCALE:GREGORIAN
METHOD:PUBLISH
X-WR-CALNAME:Village Cove
X-ORIGINAL-URL:https://villagecove.net
X-WR-CALDESC:Events for Village Cove
REFRESH-INTERVAL;VALUE=DURATION:PT1H
X-Robots-Tag:noindex
X-PUBLISHED-TTL:PT1H
BEGIN:VTIMEZONE
TZID:America/Los_Angeles
BEGIN:DAYLIGHT
TZOFFSETFROM:-0800
TZOFFSETTO:-0700
TZNAME:PDT
DTSTART:20190310T100000
END:DAYLIGHT
BEGIN:STANDARD
TZOFFSETFROM:-0700
TZOFFSETTO:-0800
TZNAME:PST
DTSTART:20191103T090000
END:STANDARD
END:VTIMEZONE
BEGIN:VEVENT
DTSTART;TZID=America/Los_Angeles:20191001T200000
DTEND;TZID=America/Los_Angeles:20191001T200000
DTSTAMP:20260424T074521
CREATED:20180716T225611Z
LAST-MODIFIED:20180716T231914Z
UID:1326-1569960000-1569960000@villagecove.net
SUMMARY:Karaoke at Saddleback!
DESCRIPTION:
URL:https://villagecove.net/event/karaoke-at-saddleback-2019-10-01/
LOCATION:Saddleback Inn\, 282 S. State HWY 173\, Lake Arrowhead\, CA\, 92352\, United States
END:VEVENT
BEGIN:VEVENT
DTSTART;TZID=America/Los_Angeles:20191004T200000
DTEND;TZID=America/Los_Angeles:20191004T200000
DTSTAMP:20260424T074521
CREATED:20180716T225611Z
LAST-MODIFIED:20180716T225611Z
UID:1432-1570219200-1570219200@villagecove.net
SUMMARY:Karaoke at Saddleback!
DESCRIPTION:
URL:https://villagecove.net/event/karaoke-at-saddleback-2019-10-04/
LOCATION:Saddleback Inn\, 282 S. State HWY 173\, Lake Arrowhead\, CA\, 92352\, United States
END:VEVENT
BEGIN:VEVENT
DTSTART;TZID=America/Los_Angeles:20191008T200000
DTEND;TZID=America/Los_Angeles:20191008T200000
DTSTAMP:20260424T074521
CREATED:20180716T225611Z
LAST-MODIFIED:20180716T231914Z
UID:1327-1570564800-1570564800@villagecove.net
SUMMARY:Karaoke at Saddleback!
DESCRIPTION:
URL:https://villagecove.net/event/karaoke-at-saddleback-2019-10-08/
LOCATION:Saddleback Inn\, 282 S. State HWY 173\, Lake Arrowhead\, CA\, 92352\, United States
END:VEVENT
BEGIN:VEVENT
DTSTART;TZID=America/Los_Angeles:20191011T200000
DTEND;TZID=America/Los_Angeles:20191011T200000
DTSTAMP:20260424T074521
CREATED:20180716T225611Z
LAST-MODIFIED:20180716T225611Z
UID:1433-1570824000-1570824000@villagecove.net
SUMMARY:Karaoke at Saddleback!
DESCRIPTION:
URL:https://villagecove.net/event/karaoke-at-saddleback-2019-10-11/
LOCATION:Saddleback Inn\, 282 S. State HWY 173\, Lake Arrowhead\, CA\, 92352\, United States
END:VEVENT
BEGIN:VEVENT
DTSTART;TZID=America/Los_Angeles:20191015T200000
DTEND;TZID=America/Los_Angeles:20191015T200000
DTSTAMP:20260424T074521
CREATED:20180716T225611Z
LAST-MODIFIED:20180716T231914Z
UID:1328-1571169600-1571169600@villagecove.net
SUMMARY:Karaoke at Saddleback!
DESCRIPTION:
URL:https://villagecove.net/event/karaoke-at-saddleback-2019-10-15/
LOCATION:Saddleback Inn\, 282 S. State HWY 173\, Lake Arrowhead\, CA\, 92352\, United States
END:VEVENT
BEGIN:VEVENT
DTSTART;TZID=America/Los_Angeles:20191018T200000
DTEND;TZID=America/Los_Angeles:20191018T200000
DTSTAMP:20260424T074521
CREATED:20180716T225611Z
LAST-MODIFIED:20180716T225611Z
UID:1434-1571428800-1571428800@villagecove.net
SUMMARY:Karaoke at Saddleback!
DESCRIPTION:
URL:https://villagecove.net/event/karaoke-at-saddleback-2019-10-18/
LOCATION:Saddleback Inn\, 282 S. State HWY 173\, Lake Arrowhead\, CA\, 92352\, United States
END:VEVENT
BEGIN:VEVENT
DTSTART;TZID=America/Los_Angeles:20191021T170000
DTEND;TZID=America/Los_Angeles:20191021T173000
DTSTAMP:20260424T074521
CREATED:20180716T232830Z
LAST-MODIFIED:20180716T233021Z
UID:1591-1571677200-1571679000@villagecove.net
SUMMARY:Executive Committee Meeting
DESCRIPTION:
URL:https://villagecove.net/event/executive-committee-meeting-2019-10-21/
LOCATION:Lake Arrowhead\, CA\, 92352\, United States
END:VEVENT
BEGIN:VEVENT
DTSTART;TZID=America/Los_Angeles:20191022T200000
DTEND;TZID=America/Los_Angeles:20191022T200000
DTSTAMP:20260424T074521
CREATED:20180716T225611Z
LAST-MODIFIED:20180716T231914Z
UID:1329-1571774400-1571774400@villagecove.net
SUMMARY:Karaoke at Saddleback!
DESCRIPTION:
URL:https://villagecove.net/event/karaoke-at-saddleback-2019-10-22/
LOCATION:Saddleback Inn\, 282 S. State HWY 173\, Lake Arrowhead\, CA\, 92352\, United States
END:VEVENT
BEGIN:VEVENT
DTSTART;TZID=America/Los_Angeles:20191025T200000
DTEND;TZID=America/Los_Angeles:20191025T200000
DTSTAMP:20260424T074521
CREATED:20180716T225611Z
LAST-MODIFIED:20180716T225611Z
UID:1435-1572033600-1572033600@villagecove.net
SUMMARY:Karaoke at Saddleback!
DESCRIPTION:
URL:https://villagecove.net/event/karaoke-at-saddleback-2019-10-25/
LOCATION:Saddleback Inn\, 282 S. State HWY 173\, Lake Arrowhead\, CA\, 92352\, United States
END:VEVENT
BEGIN:VEVENT
DTSTART;TZID=America/Los_Angeles:20191029T200000
DTEND;TZID=America/Los_Angeles:20191029T200000
DTSTAMP:20260424T074521
CREATED:20180716T225611Z
LAST-MODIFIED:20180716T231914Z
UID:1330-1572379200-1572379200@villagecove.net
SUMMARY:Karaoke at Saddleback!
DESCRIPTION:
URL:https://villagecove.net/event/karaoke-at-saddleback-2019-10-29/
LOCATION:Saddleback Inn\, 282 S. State HWY 173\, Lake Arrowhead\, CA\, 92352\, United States
END:VEVENT
END:VCALENDAR