BEGIN:VCALENDAR
VERSION:2.0
PRODID:-//Village Cove - ECPv5.14.1//NONSGML v1.0//EN
CALSCALE:GREGORIAN
METHOD:PUBLISH
X-WR-CALNAME:Village Cove
X-ORIGINAL-URL:https://villagecove.net
X-WR-CALDESC:Events for Village Cove
REFRESH-INTERVAL;VALUE=DURATION:PT1H
X-Robots-Tag:noindex
X-PUBLISHED-TTL:PT1H
BEGIN:VTIMEZONE
TZID:America/Los_Angeles
BEGIN:DAYLIGHT
TZOFFSETFROM:-0800
TZOFFSETTO:-0700
TZNAME:PDT
DTSTART:20190310T100000
END:DAYLIGHT
BEGIN:STANDARD
TZOFFSETFROM:-0700
TZOFFSETTO:-0800
TZNAME:PST
DTSTART:20191103T090000
END:STANDARD
END:VTIMEZONE
BEGIN:VEVENT
DTSTART;TZID=America/Los_Angeles:20190903T200000
DTEND;TZID=America/Los_Angeles:20190903T200000
DTSTAMP:20260424T090424
CREATED:20180716T225611Z
LAST-MODIFIED:20180716T231913Z
UID:1322-1567540800-1567540800@villagecove.net
SUMMARY:Karaoke at Saddleback!
DESCRIPTION:
URL:https://villagecove.net/event/karaoke-at-saddleback-2019-09-03/
LOCATION:Saddleback Inn\, 282 S. State HWY 173\, Lake Arrowhead\, CA\, 92352\, United States
END:VEVENT
BEGIN:VEVENT
DTSTART;TZID=America/Los_Angeles:20190906T200000
DTEND;TZID=America/Los_Angeles:20190906T200000
DTSTAMP:20260424T090424
CREATED:20180716T225611Z
LAST-MODIFIED:20180716T225611Z
UID:1428-1567800000-1567800000@villagecove.net
SUMMARY:Karaoke at Saddleback!
DESCRIPTION:
URL:https://villagecove.net/event/karaoke-at-saddleback-2019-09-06/
LOCATION:Saddleback Inn\, 282 S. State HWY 173\, Lake Arrowhead\, CA\, 92352\, United States
END:VEVENT
BEGIN:VEVENT
DTSTART;TZID=America/Los_Angeles:20190910T200000
DTEND;TZID=America/Los_Angeles:20190910T200000
DTSTAMP:20260424T090424
CREATED:20180716T225611Z
LAST-MODIFIED:20180716T231913Z
UID:1323-1568145600-1568145600@villagecove.net
SUMMARY:Karaoke at Saddleback!
DESCRIPTION:
URL:https://villagecove.net/event/karaoke-at-saddleback-2019-09-10/
LOCATION:Saddleback Inn\, 282 S. State HWY 173\, Lake Arrowhead\, CA\, 92352\, United States
END:VEVENT
BEGIN:VEVENT
DTSTART;TZID=America/Los_Angeles:20190913T200000
DTEND;TZID=America/Los_Angeles:20190913T200000
DTSTAMP:20260424T090424
CREATED:20180716T225611Z
LAST-MODIFIED:20180716T225611Z
UID:1429-1568404800-1568404800@villagecove.net
SUMMARY:Karaoke at Saddleback!
DESCRIPTION:
URL:https://villagecove.net/event/karaoke-at-saddleback-2019-09-13/
LOCATION:Saddleback Inn\, 282 S. State HWY 173\, Lake Arrowhead\, CA\, 92352\, United States
END:VEVENT
BEGIN:VEVENT
DTSTART;TZID=America/Los_Angeles:20190916T170000
DTEND;TZID=America/Los_Angeles:20190916T173000
DTSTAMP:20260424T090424
CREATED:20180716T232830Z
LAST-MODIFIED:20180716T233021Z
UID:1571-1568653200-1568655000@villagecove.net
SUMMARY:Executive Committee Meeting
DESCRIPTION:
URL:https://villagecove.net/event/executive-committee-meeting-2019-09-16/
LOCATION:Lake Arrowhead\, CA\, 92352\, United States
END:VEVENT
BEGIN:VEVENT
DTSTART;TZID=America/Los_Angeles:20190917T200000
DTEND;TZID=America/Los_Angeles:20190917T200000
DTSTAMP:20260424T090424
CREATED:20180716T225611Z
LAST-MODIFIED:20180716T231914Z
UID:1324-1568750400-1568750400@villagecove.net
SUMMARY:Karaoke at Saddleback!
DESCRIPTION:
URL:https://villagecove.net/event/karaoke-at-saddleback-2019-09-17/
LOCATION:Saddleback Inn\, 282 S. State HWY 173\, Lake Arrowhead\, CA\, 92352\, United States
END:VEVENT
BEGIN:VEVENT
DTSTART;TZID=America/Los_Angeles:20190920T200000
DTEND;TZID=America/Los_Angeles:20190920T200000
DTSTAMP:20260424T090424
CREATED:20180716T225611Z
LAST-MODIFIED:20180716T225611Z
UID:1430-1569009600-1569009600@villagecove.net
SUMMARY:Karaoke at Saddleback!
DESCRIPTION:
URL:https://villagecove.net/event/karaoke-at-saddleback-2019-09-20/
LOCATION:Saddleback Inn\, 282 S. State HWY 173\, Lake Arrowhead\, CA\, 92352\, United States
END:VEVENT
BEGIN:VEVENT
DTSTART;TZID=America/Los_Angeles:20190924T200000
DTEND;TZID=America/Los_Angeles:20190924T200000
DTSTAMP:20260424T090424
CREATED:20180716T225611Z
LAST-MODIFIED:20180716T231914Z
UID:1325-1569355200-1569355200@villagecove.net
SUMMARY:Karaoke at Saddleback!
DESCRIPTION:
URL:https://villagecove.net/event/karaoke-at-saddleback-2019-09-24/
LOCATION:Saddleback Inn\, 282 S. State HWY 173\, Lake Arrowhead\, CA\, 92352\, United States
END:VEVENT
BEGIN:VEVENT
DTSTART;TZID=America/Los_Angeles:20190927T200000
DTEND;TZID=America/Los_Angeles:20190927T200000
DTSTAMP:20260424T090424
CREATED:20180716T225611Z
LAST-MODIFIED:20180716T225611Z
UID:1431-1569614400-1569614400@villagecove.net
SUMMARY:Karaoke at Saddleback!
DESCRIPTION:
URL:https://villagecove.net/event/karaoke-at-saddleback-2019-09-27/
LOCATION:Saddleback Inn\, 282 S. State HWY 173\, Lake Arrowhead\, CA\, 92352\, United States
END:VEVENT
END:VCALENDAR