BEGIN:VCALENDAR
VERSION:2.0
PRODID:-//Village Cove - ECPv5.14.1//NONSGML v1.0//EN
CALSCALE:GREGORIAN
METHOD:PUBLISH
X-WR-CALNAME:Village Cove
X-ORIGINAL-URL:https://villagecove.net
X-WR-CALDESC:Events for Village Cove
REFRESH-INTERVAL;VALUE=DURATION:PT1H
X-Robots-Tag:noindex
X-PUBLISHED-TTL:PT1H
BEGIN:VTIMEZONE
TZID:America/Los_Angeles
BEGIN:DAYLIGHT
TZOFFSETFROM:-0800
TZOFFSETTO:-0700
TZNAME:PDT
DTSTART:20190310T100000
END:DAYLIGHT
BEGIN:STANDARD
TZOFFSETFROM:-0700
TZOFFSETTO:-0800
TZNAME:PST
DTSTART:20191103T090000
END:STANDARD
END:VTIMEZONE
BEGIN:VEVENT
DTSTART;TZID=America/Los_Angeles:20190101T200000
DTEND;TZID=America/Los_Angeles:20190101T200000
DTSTAMP:20260424T203257
CREATED:20180716T225611Z
LAST-MODIFIED:20180716T231910Z
UID:1287-1546372800-1546372800@villagecove.net
SUMMARY:Karaoke at Saddleback!
DESCRIPTION:
URL:https://villagecove.net/event/karaoke-at-saddleback-2019-01-01/
LOCATION:Saddleback Inn\, 282 S. State HWY 173\, Lake Arrowhead\, CA\, 92352\, United States
END:VEVENT
BEGIN:VEVENT
DTSTART;TZID=America/Los_Angeles:20190104T200000
DTEND;TZID=America/Los_Angeles:20190104T200000
DTSTAMP:20260424T203257
CREATED:20180716T225611Z
LAST-MODIFIED:20180716T225611Z
UID:1393-1546632000-1546632000@villagecove.net
SUMMARY:Karaoke at Saddleback!
DESCRIPTION:
URL:https://villagecove.net/event/karaoke-at-saddleback-2019-01-04/
LOCATION:Saddleback Inn\, 282 S. State HWY 173\, Lake Arrowhead\, CA\, 92352\, United States
END:VEVENT
BEGIN:VEVENT
DTSTART;TZID=America/Los_Angeles:20190108T200000
DTEND;TZID=America/Los_Angeles:20190108T200000
DTSTAMP:20260424T203257
CREATED:20180716T225611Z
LAST-MODIFIED:20180716T231910Z
UID:1288-1546977600-1546977600@villagecove.net
SUMMARY:Karaoke at Saddleback!
DESCRIPTION:
URL:https://villagecove.net/event/karaoke-at-saddleback-2019-01-08/
LOCATION:Saddleback Inn\, 282 S. State HWY 173\, Lake Arrowhead\, CA\, 92352\, United States
END:VEVENT
BEGIN:VEVENT
DTSTART;TZID=America/Los_Angeles:20190111T200000
DTEND;TZID=America/Los_Angeles:20190111T200000
DTSTAMP:20260424T203257
CREATED:20180716T225611Z
LAST-MODIFIED:20180716T225611Z
UID:1394-1547236800-1547236800@villagecove.net
SUMMARY:Karaoke at Saddleback!
DESCRIPTION:
URL:https://villagecove.net/event/karaoke-at-saddleback-2019-01-11/
LOCATION:Saddleback Inn\, 282 S. State HWY 173\, Lake Arrowhead\, CA\, 92352\, United States
END:VEVENT
BEGIN:VEVENT
DTSTART;TZID=America/Los_Angeles:20190115T200000
DTEND;TZID=America/Los_Angeles:20190115T200000
DTSTAMP:20260424T203257
CREATED:20180716T225611Z
LAST-MODIFIED:20180716T231910Z
UID:1289-1547582400-1547582400@villagecove.net
SUMMARY:Karaoke at Saddleback!
DESCRIPTION:
URL:https://villagecove.net/event/karaoke-at-saddleback-2019-01-15/
LOCATION:Saddleback Inn\, 282 S. State HWY 173\, Lake Arrowhead\, CA\, 92352\, United States
END:VEVENT
BEGIN:VEVENT
DTSTART;TZID=America/Los_Angeles:20190118T200000
DTEND;TZID=America/Los_Angeles:20190118T200000
DTSTAMP:20260424T203257
CREATED:20180716T225611Z
LAST-MODIFIED:20180716T225611Z
UID:1395-1547841600-1547841600@villagecove.net
SUMMARY:Karaoke at Saddleback!
DESCRIPTION:
URL:https://villagecove.net/event/karaoke-at-saddleback-2019-01-18/
LOCATION:Saddleback Inn\, 282 S. State HWY 173\, Lake Arrowhead\, CA\, 92352\, United States
END:VEVENT
BEGIN:VEVENT
DTSTART;TZID=America/Los_Angeles:20190121T170000
DTEND;TZID=America/Los_Angeles:20190121T173000
DTSTAMP:20260424T203257
CREATED:20180716T232830Z
LAST-MODIFIED:20180716T233018Z
UID:1583-1548090000-1548091800@villagecove.net
SUMMARY:Executive Committee Meeting
DESCRIPTION:
URL:https://villagecove.net/event/executive-committee-meeting-2019-01-21/
LOCATION:Lake Arrowhead\, CA\, 92352\, United States
END:VEVENT
BEGIN:VEVENT
DTSTART;TZID=America/Los_Angeles:20190122T200000
DTEND;TZID=America/Los_Angeles:20190122T200000
DTSTAMP:20260424T203257
CREATED:20180716T225611Z
LAST-MODIFIED:20180716T231910Z
UID:1290-1548187200-1548187200@villagecove.net
SUMMARY:Karaoke at Saddleback!
DESCRIPTION:
URL:https://villagecove.net/event/karaoke-at-saddleback-2019-01-22/
LOCATION:Saddleback Inn\, 282 S. State HWY 173\, Lake Arrowhead\, CA\, 92352\, United States
END:VEVENT
BEGIN:VEVENT
DTSTART;TZID=America/Los_Angeles:20190125T200000
DTEND;TZID=America/Los_Angeles:20190125T200000
DTSTAMP:20260424T203257
CREATED:20180716T225611Z
LAST-MODIFIED:20180716T225611Z
UID:1396-1548446400-1548446400@villagecove.net
SUMMARY:Karaoke at Saddleback!
DESCRIPTION:
URL:https://villagecove.net/event/karaoke-at-saddleback-2019-01-25/
LOCATION:Saddleback Inn\, 282 S. State HWY 173\, Lake Arrowhead\, CA\, 92352\, United States
END:VEVENT
BEGIN:VEVENT
DTSTART;TZID=America/Los_Angeles:20190129T200000
DTEND;TZID=America/Los_Angeles:20190129T200000
DTSTAMP:20260424T203257
CREATED:20180716T225611Z
LAST-MODIFIED:20180716T231910Z
UID:1291-1548792000-1548792000@villagecove.net
SUMMARY:Karaoke at Saddleback!
DESCRIPTION:
URL:https://villagecove.net/event/karaoke-at-saddleback-2019-01-29/
LOCATION:Saddleback Inn\, 282 S. State HWY 173\, Lake Arrowhead\, CA\, 92352\, United States
END:VEVENT
END:VCALENDAR