BEGIN:VCALENDAR
VERSION:2.0
PRODID:-//Village Cove - ECPv5.14.1//NONSGML v1.0//EN
CALSCALE:GREGORIAN
METHOD:PUBLISH
X-WR-CALNAME:Village Cove
X-ORIGINAL-URL:https://villagecove.net
X-WR-CALDESC:Events for Village Cove
REFRESH-INTERVAL;VALUE=DURATION:PT1H
X-Robots-Tag:noindex
X-PUBLISHED-TTL:PT1H
BEGIN:VTIMEZONE
TZID:America/Los_Angeles
BEGIN:DAYLIGHT
TZOFFSETFROM:-0800
TZOFFSETTO:-0700
TZNAME:PDT
DTSTART:20190310T100000
END:DAYLIGHT
BEGIN:STANDARD
TZOFFSETFROM:-0700
TZOFFSETTO:-0800
TZNAME:PST
DTSTART:20191103T090000
END:STANDARD
END:VTIMEZONE
BEGIN:VEVENT
DTSTART;TZID=America/Los_Angeles:20190423T200000
DTEND;TZID=America/Los_Angeles:20190423T200000
DTSTAMP:20260419T235036
CREATED:20180716T225611Z
LAST-MODIFIED:20180716T231912Z
UID:1303-1556049600-1556049600@villagecove.net
SUMMARY:Karaoke at Saddleback!
DESCRIPTION:
URL:https://villagecove.net/event/karaoke-at-saddleback-2019-04-23/
LOCATION:Saddleback Inn\, 282 S. State HWY 173\, Lake Arrowhead\, CA\, 92352\, United States
END:VEVENT
BEGIN:VEVENT
DTSTART;TZID=America/Los_Angeles:20190419T200000
DTEND;TZID=America/Los_Angeles:20190419T200000
DTSTAMP:20260419T235036
CREATED:20180716T225611Z
LAST-MODIFIED:20180716T225611Z
UID:1408-1555704000-1555704000@villagecove.net
SUMMARY:Karaoke at Saddleback!
DESCRIPTION:
URL:https://villagecove.net/event/karaoke-at-saddleback-2019-04-19/
LOCATION:Saddleback Inn\, 282 S. State HWY 173\, Lake Arrowhead\, CA\, 92352\, United States
END:VEVENT
BEGIN:VEVENT
DTSTART;TZID=America/Los_Angeles:20190416T200000
DTEND;TZID=America/Los_Angeles:20190416T200000
DTSTAMP:20260419T235036
CREATED:20180716T225611Z
LAST-MODIFIED:20180716T231911Z
UID:1302-1555444800-1555444800@villagecove.net
SUMMARY:Karaoke at Saddleback!
DESCRIPTION:
URL:https://villagecove.net/event/karaoke-at-saddleback-2019-04-16/
LOCATION:Saddleback Inn\, 282 S. State HWY 173\, Lake Arrowhead\, CA\, 92352\, United States
END:VEVENT
BEGIN:VEVENT
DTSTART;TZID=America/Los_Angeles:20190415T170000
DTEND;TZID=America/Los_Angeles:20190415T173000
DTSTAMP:20260419T235036
CREATED:20180716T232830Z
LAST-MODIFIED:20180716T233021Z
UID:1586-1555347600-1555349400@villagecove.net
SUMMARY:Executive Committee Meeting
DESCRIPTION:
URL:https://villagecove.net/event/executive-committee-meeting-2019-04-15/
LOCATION:Lake Arrowhead\, CA\, 92352\, United States
END:VEVENT
BEGIN:VEVENT
DTSTART;TZID=America/Los_Angeles:20190412T200000
DTEND;TZID=America/Los_Angeles:20190412T200000
DTSTAMP:20260419T235036
CREATED:20180716T225611Z
LAST-MODIFIED:20180716T225611Z
UID:1407-1555099200-1555099200@villagecove.net
SUMMARY:Karaoke at Saddleback!
DESCRIPTION:
URL:https://villagecove.net/event/karaoke-at-saddleback-2019-04-12/
LOCATION:Saddleback Inn\, 282 S. State HWY 173\, Lake Arrowhead\, CA\, 92352\, United States
END:VEVENT
BEGIN:VEVENT
DTSTART;TZID=America/Los_Angeles:20190409T200000
DTEND;TZID=America/Los_Angeles:20190409T200000
DTSTAMP:20260419T235036
CREATED:20180716T225611Z
LAST-MODIFIED:20180716T231911Z
UID:1301-1554840000-1554840000@villagecove.net
SUMMARY:Karaoke at Saddleback!
DESCRIPTION:
URL:https://villagecove.net/event/karaoke-at-saddleback-2019-04-09/
LOCATION:Saddleback Inn\, 282 S. State HWY 173\, Lake Arrowhead\, CA\, 92352\, United States
END:VEVENT
BEGIN:VEVENT
DTSTART;TZID=America/Los_Angeles:20190405T200000
DTEND;TZID=America/Los_Angeles:20190405T200000
DTSTAMP:20260419T235036
CREATED:20180716T225611Z
LAST-MODIFIED:20180716T225611Z
UID:1406-1554494400-1554494400@villagecove.net
SUMMARY:Karaoke at Saddleback!
DESCRIPTION:
URL:https://villagecove.net/event/karaoke-at-saddleback-2019-04-05/
LOCATION:Saddleback Inn\, 282 S. State HWY 173\, Lake Arrowhead\, CA\, 92352\, United States
END:VEVENT
BEGIN:VEVENT
DTSTART;TZID=America/Los_Angeles:20190402T200000
DTEND;TZID=America/Los_Angeles:20190402T200000
DTSTAMP:20260419T235036
CREATED:20180716T225611Z
LAST-MODIFIED:20180716T231911Z
UID:1300-1554235200-1554235200@villagecove.net
SUMMARY:Karaoke at Saddleback!
DESCRIPTION:
URL:https://villagecove.net/event/karaoke-at-saddleback-2019-04-02/
LOCATION:Saddleback Inn\, 282 S. State HWY 173\, Lake Arrowhead\, CA\, 92352\, United States
END:VEVENT
BEGIN:VEVENT
DTSTART;TZID=America/Los_Angeles:20190329T200000
DTEND;TZID=America/Los_Angeles:20190329T200000
DTSTAMP:20260419T235036
CREATED:20180716T225611Z
LAST-MODIFIED:20180716T225611Z
UID:1405-1553889600-1553889600@villagecove.net
SUMMARY:Karaoke at Saddleback!
DESCRIPTION:
URL:https://villagecove.net/event/karaoke-at-saddleback-2019-03-29/
LOCATION:Saddleback Inn\, 282 S. State HWY 173\, Lake Arrowhead\, CA\, 92352\, United States
END:VEVENT
BEGIN:VEVENT
DTSTART;TZID=America/Los_Angeles:20190326T200000
DTEND;TZID=America/Los_Angeles:20190326T200000
DTSTAMP:20260419T235036
CREATED:20180716T225611Z
LAST-MODIFIED:20180716T231911Z
UID:1299-1553630400-1553630400@villagecove.net
SUMMARY:Karaoke at Saddleback!
DESCRIPTION:
URL:https://villagecove.net/event/karaoke-at-saddleback-2019-03-26/
LOCATION:Saddleback Inn\, 282 S. State HWY 173\, Lake Arrowhead\, CA\, 92352\, United States
END:VEVENT
BEGIN:VEVENT
DTSTART;TZID=America/Los_Angeles:20190322T200000
DTEND;TZID=America/Los_Angeles:20190322T200000
DTSTAMP:20260419T235036
CREATED:20180716T225611Z
LAST-MODIFIED:20180716T225611Z
UID:1404-1553284800-1553284800@villagecove.net
SUMMARY:Karaoke at Saddleback!
DESCRIPTION:
URL:https://villagecove.net/event/karaoke-at-saddleback-2019-03-22/
LOCATION:Saddleback Inn\, 282 S. State HWY 173\, Lake Arrowhead\, CA\, 92352\, United States
END:VEVENT
BEGIN:VEVENT
DTSTART;TZID=America/Los_Angeles:20190319T200000
DTEND;TZID=America/Los_Angeles:20190319T200000
DTSTAMP:20260419T235036
CREATED:20180716T225611Z
LAST-MODIFIED:20180716T231911Z
UID:1298-1553025600-1553025600@villagecove.net
SUMMARY:Karaoke at Saddleback!
DESCRIPTION:
URL:https://villagecove.net/event/karaoke-at-saddleback-2019-03-19/
LOCATION:Saddleback Inn\, 282 S. State HWY 173\, Lake Arrowhead\, CA\, 92352\, United States
END:VEVENT
BEGIN:VEVENT
DTSTART;TZID=America/Los_Angeles:20190318T170000
DTEND;TZID=America/Los_Angeles:20190318T173000
DTSTAMP:20260419T235036
CREATED:20180716T232830Z
LAST-MODIFIED:20180716T233020Z
UID:1585-1552928400-1552930200@villagecove.net
SUMMARY:Executive Committee Meeting
DESCRIPTION:
URL:https://villagecove.net/event/executive-committee-meeting-2019-03-18/
LOCATION:Lake Arrowhead\, CA\, 92352\, United States
END:VEVENT
BEGIN:VEVENT
DTSTART;TZID=America/Los_Angeles:20190315T200000
DTEND;TZID=America/Los_Angeles:20190315T200000
DTSTAMP:20260419T235036
CREATED:20180716T225611Z
LAST-MODIFIED:20180716T225611Z
UID:1403-1552680000-1552680000@villagecove.net
SUMMARY:Karaoke at Saddleback!
DESCRIPTION:
URL:https://villagecove.net/event/karaoke-at-saddleback-2019-03-15/
LOCATION:Saddleback Inn\, 282 S. State HWY 173\, Lake Arrowhead\, CA\, 92352\, United States
END:VEVENT
BEGIN:VEVENT
DTSTART;TZID=America/Los_Angeles:20190312T200000
DTEND;TZID=America/Los_Angeles:20190312T200000
DTSTAMP:20260419T235036
CREATED:20180716T225611Z
LAST-MODIFIED:20180716T231911Z
UID:1297-1552420800-1552420800@villagecove.net
SUMMARY:Karaoke at Saddleback!
DESCRIPTION:
URL:https://villagecove.net/event/karaoke-at-saddleback-2019-03-12/
LOCATION:Saddleback Inn\, 282 S. State HWY 173\, Lake Arrowhead\, CA\, 92352\, United States
END:VEVENT
BEGIN:VEVENT
DTSTART;TZID=America/Los_Angeles:20190308T200000
DTEND;TZID=America/Los_Angeles:20190308T200000
DTSTAMP:20260419T235036
CREATED:20180716T225611Z
LAST-MODIFIED:20180716T225611Z
UID:1402-1552075200-1552075200@villagecove.net
SUMMARY:Karaoke at Saddleback!
DESCRIPTION:
URL:https://villagecove.net/event/karaoke-at-saddleback-2019-03-08/
LOCATION:Saddleback Inn\, 282 S. State HWY 173\, Lake Arrowhead\, CA\, 92352\, United States
END:VEVENT
BEGIN:VEVENT
DTSTART;TZID=America/Los_Angeles:20190305T200000
DTEND;TZID=America/Los_Angeles:20190305T200000
DTSTAMP:20260419T235036
CREATED:20180716T225611Z
LAST-MODIFIED:20180716T231911Z
UID:1296-1551816000-1551816000@villagecove.net
SUMMARY:Karaoke at Saddleback!
DESCRIPTION:
URL:https://villagecove.net/event/karaoke-at-saddleback-2019-03-05/
LOCATION:Saddleback Inn\, 282 S. State HWY 173\, Lake Arrowhead\, CA\, 92352\, United States
END:VEVENT
BEGIN:VEVENT
DTSTART;TZID=America/Los_Angeles:20190301T200000
DTEND;TZID=America/Los_Angeles:20190301T200000
DTSTAMP:20260419T235036
CREATED:20180716T225611Z
LAST-MODIFIED:20180716T225611Z
UID:1401-1551470400-1551470400@villagecove.net
SUMMARY:Karaoke at Saddleback!
DESCRIPTION:
URL:https://villagecove.net/event/karaoke-at-saddleback-2019-03-01/
LOCATION:Saddleback Inn\, 282 S. State HWY 173\, Lake Arrowhead\, CA\, 92352\, United States
END:VEVENT
BEGIN:VEVENT
DTSTART;TZID=America/Los_Angeles:20190226T200000
DTEND;TZID=America/Los_Angeles:20190226T200000
DTSTAMP:20260419T235036
CREATED:20180716T225611Z
LAST-MODIFIED:20180716T231911Z
UID:1295-1551211200-1551211200@villagecove.net
SUMMARY:Karaoke at Saddleback!
DESCRIPTION:
URL:https://villagecove.net/event/karaoke-at-saddleback-2019-02-26/
LOCATION:Saddleback Inn\, 282 S. State HWY 173\, Lake Arrowhead\, CA\, 92352\, United States
END:VEVENT
BEGIN:VEVENT
DTSTART;TZID=America/Los_Angeles:20190222T200000
DTEND;TZID=America/Los_Angeles:20190222T200000
DTSTAMP:20260419T235036
CREATED:20180716T225611Z
LAST-MODIFIED:20180716T225611Z
UID:1400-1550865600-1550865600@villagecove.net
SUMMARY:Karaoke at Saddleback!
DESCRIPTION:
URL:https://villagecove.net/event/karaoke-at-saddleback-2019-02-22/
LOCATION:Saddleback Inn\, 282 S. State HWY 173\, Lake Arrowhead\, CA\, 92352\, United States
END:VEVENT
BEGIN:VEVENT
DTSTART;TZID=America/Los_Angeles:20190219T200000
DTEND;TZID=America/Los_Angeles:20190219T200000
DTSTAMP:20260419T235036
CREATED:20180716T225611Z
LAST-MODIFIED:20180716T231911Z
UID:1294-1550606400-1550606400@villagecove.net
SUMMARY:Karaoke at Saddleback!
DESCRIPTION:
URL:https://villagecove.net/event/karaoke-at-saddleback-2019-02-19/
LOCATION:Saddleback Inn\, 282 S. State HWY 173\, Lake Arrowhead\, CA\, 92352\, United States
END:VEVENT
BEGIN:VEVENT
DTSTART;TZID=America/Los_Angeles:20190218T170000
DTEND;TZID=America/Los_Angeles:20190218T173000
DTSTAMP:20260419T235036
CREATED:20180716T232830Z
LAST-MODIFIED:20180716T233018Z
UID:1584-1550509200-1550511000@villagecove.net
SUMMARY:Executive Committee Meeting
DESCRIPTION:
URL:https://villagecove.net/event/executive-committee-meeting-2019-02-18/
LOCATION:Lake Arrowhead\, CA\, 92352\, United States
END:VEVENT
BEGIN:VEVENT
DTSTART;TZID=America/Los_Angeles:20190215T200000
DTEND;TZID=America/Los_Angeles:20190215T200000
DTSTAMP:20260419T235036
CREATED:20180716T225611Z
LAST-MODIFIED:20180716T225611Z
UID:1399-1550260800-1550260800@villagecove.net
SUMMARY:Karaoke at Saddleback!
DESCRIPTION:
URL:https://villagecove.net/event/karaoke-at-saddleback-2019-02-15/
LOCATION:Saddleback Inn\, 282 S. State HWY 173\, Lake Arrowhead\, CA\, 92352\, United States
END:VEVENT
BEGIN:VEVENT
DTSTART;TZID=America/Los_Angeles:20190212T200000
DTEND;TZID=America/Los_Angeles:20190212T200000
DTSTAMP:20260419T235036
CREATED:20180716T225611Z
LAST-MODIFIED:20180716T231911Z
UID:1293-1550001600-1550001600@villagecove.net
SUMMARY:Karaoke at Saddleback!
DESCRIPTION:
URL:https://villagecove.net/event/karaoke-at-saddleback-2019-02-12/
LOCATION:Saddleback Inn\, 282 S. State HWY 173\, Lake Arrowhead\, CA\, 92352\, United States
END:VEVENT
BEGIN:VEVENT
DTSTART;TZID=America/Los_Angeles:20190208T200000
DTEND;TZID=America/Los_Angeles:20190208T200000
DTSTAMP:20260419T235036
CREATED:20180716T225611Z
LAST-MODIFIED:20180716T225611Z
UID:1398-1549656000-1549656000@villagecove.net
SUMMARY:Karaoke at Saddleback!
DESCRIPTION:
URL:https://villagecove.net/event/karaoke-at-saddleback-2019-02-08/
LOCATION:Saddleback Inn\, 282 S. State HWY 173\, Lake Arrowhead\, CA\, 92352\, United States
END:VEVENT
BEGIN:VEVENT
DTSTART;TZID=America/Los_Angeles:20190205T200000
DTEND;TZID=America/Los_Angeles:20190205T200000
DTSTAMP:20260419T235036
CREATED:20180716T225611Z
LAST-MODIFIED:20180716T231911Z
UID:1292-1549396800-1549396800@villagecove.net
SUMMARY:Karaoke at Saddleback!
DESCRIPTION:
URL:https://villagecove.net/event/karaoke-at-saddleback-2019-02-05/
LOCATION:Saddleback Inn\, 282 S. State HWY 173\, Lake Arrowhead\, CA\, 92352\, United States
END:VEVENT
BEGIN:VEVENT
DTSTART;TZID=America/Los_Angeles:20190201T200000
DTEND;TZID=America/Los_Angeles:20190201T200000
DTSTAMP:20260419T235036
CREATED:20180716T225611Z
LAST-MODIFIED:20180716T225611Z
UID:1397-1549051200-1549051200@villagecove.net
SUMMARY:Karaoke at Saddleback!
DESCRIPTION:
URL:https://villagecove.net/event/karaoke-at-saddleback-2019-02-01/
LOCATION:Saddleback Inn\, 282 S. State HWY 173\, Lake Arrowhead\, CA\, 92352\, United States
END:VEVENT
BEGIN:VEVENT
DTSTART;TZID=America/Los_Angeles:20190129T200000
DTEND;TZID=America/Los_Angeles:20190129T200000
DTSTAMP:20260419T235036
CREATED:20180716T225611Z
LAST-MODIFIED:20180716T231910Z
UID:1291-1548792000-1548792000@villagecove.net
SUMMARY:Karaoke at Saddleback!
DESCRIPTION:
URL:https://villagecove.net/event/karaoke-at-saddleback-2019-01-29/
LOCATION:Saddleback Inn\, 282 S. State HWY 173\, Lake Arrowhead\, CA\, 92352\, United States
END:VEVENT
BEGIN:VEVENT
DTSTART;TZID=America/Los_Angeles:20190125T200000
DTEND;TZID=America/Los_Angeles:20190125T200000
DTSTAMP:20260419T235036
CREATED:20180716T225611Z
LAST-MODIFIED:20180716T225611Z
UID:1396-1548446400-1548446400@villagecove.net
SUMMARY:Karaoke at Saddleback!
DESCRIPTION:
URL:https://villagecove.net/event/karaoke-at-saddleback-2019-01-25/
LOCATION:Saddleback Inn\, 282 S. State HWY 173\, Lake Arrowhead\, CA\, 92352\, United States
END:VEVENT
BEGIN:VEVENT
DTSTART;TZID=America/Los_Angeles:20190122T200000
DTEND;TZID=America/Los_Angeles:20190122T200000
DTSTAMP:20260419T235036
CREATED:20180716T225611Z
LAST-MODIFIED:20180716T231910Z
UID:1290-1548187200-1548187200@villagecove.net
SUMMARY:Karaoke at Saddleback!
DESCRIPTION:
URL:https://villagecove.net/event/karaoke-at-saddleback-2019-01-22/
LOCATION:Saddleback Inn\, 282 S. State HWY 173\, Lake Arrowhead\, CA\, 92352\, United States
END:VEVENT
END:VCALENDAR