BEGIN:VCALENDAR
VERSION:2.0
PRODID:-//Village Cove - ECPv5.14.1//NONSGML v1.0//EN
CALSCALE:GREGORIAN
METHOD:PUBLISH
X-WR-CALNAME:Village Cove
X-ORIGINAL-URL:https://villagecove.net
X-WR-CALDESC:Events for Village Cove
REFRESH-INTERVAL;VALUE=DURATION:PT1H
X-Robots-Tag:noindex
X-PUBLISHED-TTL:PT1H
BEGIN:VTIMEZONE
TZID:America/Los_Angeles
BEGIN:DAYLIGHT
TZOFFSETFROM:-0800
TZOFFSETTO:-0700
TZNAME:PDT
DTSTART:20190310T100000
END:DAYLIGHT
BEGIN:STANDARD
TZOFFSETFROM:-0700
TZOFFSETTO:-0800
TZNAME:PST
DTSTART:20191103T090000
END:STANDARD
END:VTIMEZONE
BEGIN:VEVENT
DTSTART;TZID=America/Los_Angeles:20190726T200000
DTEND;TZID=America/Los_Angeles:20190726T200000
DTSTAMP:20260419T181629
CREATED:20180716T225611Z
LAST-MODIFIED:20180716T225611Z
UID:1422-1564171200-1564171200@villagecove.net
SUMMARY:Karaoke at Saddleback!
DESCRIPTION:
URL:https://villagecove.net/event/karaoke-at-saddleback-2019-07-26/
LOCATION:Saddleback Inn\, 282 S. State HWY 173\, Lake Arrowhead\, CA\, 92352\, United States
END:VEVENT
BEGIN:VEVENT
DTSTART;TZID=America/Los_Angeles:20190723T200000
DTEND;TZID=America/Los_Angeles:20190723T200000
DTSTAMP:20260419T181629
CREATED:20180716T225611Z
LAST-MODIFIED:20180716T231913Z
UID:1316-1563912000-1563912000@villagecove.net
SUMMARY:Karaoke at Saddleback!
DESCRIPTION:
URL:https://villagecove.net/event/karaoke-at-saddleback-2019-07-23/
LOCATION:Saddleback Inn\, 282 S. State HWY 173\, Lake Arrowhead\, CA\, 92352\, United States
END:VEVENT
BEGIN:VEVENT
DTSTART;TZID=America/Los_Angeles:20190719T200000
DTEND;TZID=America/Los_Angeles:20190719T200000
DTSTAMP:20260419T181629
CREATED:20180716T225611Z
LAST-MODIFIED:20180716T225611Z
UID:1421-1563566400-1563566400@villagecove.net
SUMMARY:Karaoke at Saddleback!
DESCRIPTION:
URL:https://villagecove.net/event/karaoke-at-saddleback-2019-07-19/
LOCATION:Saddleback Inn\, 282 S. State HWY 173\, Lake Arrowhead\, CA\, 92352\, United States
END:VEVENT
BEGIN:VEVENT
DTSTART;TZID=America/Los_Angeles:20190716T200000
DTEND;TZID=America/Los_Angeles:20190716T200000
DTSTAMP:20260419T181629
CREATED:20180716T225611Z
LAST-MODIFIED:20180716T231913Z
UID:1315-1563307200-1563307200@villagecove.net
SUMMARY:Karaoke at Saddleback!
DESCRIPTION:
URL:https://villagecove.net/event/karaoke-at-saddleback-2019-07-16/
LOCATION:Saddleback Inn\, 282 S. State HWY 173\, Lake Arrowhead\, CA\, 92352\, United States
END:VEVENT
BEGIN:VEVENT
DTSTART;TZID=America/Los_Angeles:20190715T170000
DTEND;TZID=America/Los_Angeles:20190715T173000
DTSTAMP:20260419T181629
CREATED:20180716T232830Z
LAST-MODIFIED:20180716T233021Z
UID:1589-1563210000-1563211800@villagecove.net
SUMMARY:Executive Committee Meeting
DESCRIPTION:
URL:https://villagecove.net/event/executive-committee-meeting-2019-07-15/
LOCATION:Lake Arrowhead\, CA\, 92352\, United States
END:VEVENT
BEGIN:VEVENT
DTSTART;TZID=America/Los_Angeles:20190712T200000
DTEND;TZID=America/Los_Angeles:20190712T200000
DTSTAMP:20260419T181629
CREATED:20180716T225611Z
LAST-MODIFIED:20180716T225611Z
UID:1420-1562961600-1562961600@villagecove.net
SUMMARY:Karaoke at Saddleback!
DESCRIPTION:
URL:https://villagecove.net/event/karaoke-at-saddleback-2019-07-12/
LOCATION:Saddleback Inn\, 282 S. State HWY 173\, Lake Arrowhead\, CA\, 92352\, United States
END:VEVENT
BEGIN:VEVENT
DTSTART;TZID=America/Los_Angeles:20190709T200000
DTEND;TZID=America/Los_Angeles:20190709T200000
DTSTAMP:20260419T181629
CREATED:20180716T225611Z
LAST-MODIFIED:20180716T231913Z
UID:1314-1562702400-1562702400@villagecove.net
SUMMARY:Karaoke at Saddleback!
DESCRIPTION:
URL:https://villagecove.net/event/karaoke-at-saddleback-2019-07-09/
LOCATION:Saddleback Inn\, 282 S. State HWY 173\, Lake Arrowhead\, CA\, 92352\, United States
END:VEVENT
BEGIN:VEVENT
DTSTART;TZID=America/Los_Angeles:20190705T200000
DTEND;TZID=America/Los_Angeles:20190705T200000
DTSTAMP:20260419T181629
CREATED:20180716T225611Z
LAST-MODIFIED:20180716T225611Z
UID:1419-1562356800-1562356800@villagecove.net
SUMMARY:Karaoke at Saddleback!
DESCRIPTION:
URL:https://villagecove.net/event/karaoke-at-saddleback-2019-07-05/
LOCATION:Saddleback Inn\, 282 S. State HWY 173\, Lake Arrowhead\, CA\, 92352\, United States
END:VEVENT
BEGIN:VEVENT
DTSTART;TZID=America/Los_Angeles:20190702T200000
DTEND;TZID=America/Los_Angeles:20190702T200000
DTSTAMP:20260419T181629
CREATED:20180716T225611Z
LAST-MODIFIED:20180716T231912Z
UID:1313-1562097600-1562097600@villagecove.net
SUMMARY:Karaoke at Saddleback!
DESCRIPTION:
URL:https://villagecove.net/event/karaoke-at-saddleback-2019-07-02/
LOCATION:Saddleback Inn\, 282 S. State HWY 173\, Lake Arrowhead\, CA\, 92352\, United States
END:VEVENT
BEGIN:VEVENT
DTSTART;TZID=America/Los_Angeles:20190628T200000
DTEND;TZID=America/Los_Angeles:20190628T200000
DTSTAMP:20260419T181629
CREATED:20180716T225611Z
LAST-MODIFIED:20180716T225611Z
UID:1418-1561752000-1561752000@villagecove.net
SUMMARY:Karaoke at Saddleback!
DESCRIPTION:
URL:https://villagecove.net/event/karaoke-at-saddleback-2019-06-28/
LOCATION:Saddleback Inn\, 282 S. State HWY 173\, Lake Arrowhead\, CA\, 92352\, United States
END:VEVENT
BEGIN:VEVENT
DTSTART;TZID=America/Los_Angeles:20190625T200000
DTEND;TZID=America/Los_Angeles:20190625T200000
DTSTAMP:20260419T181629
CREATED:20180716T225611Z
LAST-MODIFIED:20180716T231912Z
UID:1312-1561492800-1561492800@villagecove.net
SUMMARY:Karaoke at Saddleback!
DESCRIPTION:
URL:https://villagecove.net/event/karaoke-at-saddleback-2019-06-25/
LOCATION:Saddleback Inn\, 282 S. State HWY 173\, Lake Arrowhead\, CA\, 92352\, United States
END:VEVENT
BEGIN:VEVENT
DTSTART;TZID=America/Los_Angeles:20190621T200000
DTEND;TZID=America/Los_Angeles:20190621T200000
DTSTAMP:20260419T181629
CREATED:20180716T225611Z
LAST-MODIFIED:20180716T225611Z
UID:1417-1561147200-1561147200@villagecove.net
SUMMARY:Karaoke at Saddleback!
DESCRIPTION:
URL:https://villagecove.net/event/karaoke-at-saddleback-2019-06-21/
LOCATION:Saddleback Inn\, 282 S. State HWY 173\, Lake Arrowhead\, CA\, 92352\, United States
END:VEVENT
BEGIN:VEVENT
DTSTART;TZID=America/Los_Angeles:20190618T200000
DTEND;TZID=America/Los_Angeles:20190618T200000
DTSTAMP:20260419T181629
CREATED:20180716T225611Z
LAST-MODIFIED:20180716T231912Z
UID:1311-1560888000-1560888000@villagecove.net
SUMMARY:Karaoke at Saddleback!
DESCRIPTION:
URL:https://villagecove.net/event/karaoke-at-saddleback-2019-06-18/
LOCATION:Saddleback Inn\, 282 S. State HWY 173\, Lake Arrowhead\, CA\, 92352\, United States
END:VEVENT
BEGIN:VEVENT
DTSTART;TZID=America/Los_Angeles:20190617T170000
DTEND;TZID=America/Los_Angeles:20190617T173000
DTSTAMP:20260419T181629
CREATED:20180716T232830Z
LAST-MODIFIED:20180716T233021Z
UID:1588-1560790800-1560792600@villagecove.net
SUMMARY:Executive Committee Meeting
DESCRIPTION:
URL:https://villagecove.net/event/executive-committee-meeting-2019-06-17/
LOCATION:Lake Arrowhead\, CA\, 92352\, United States
END:VEVENT
BEGIN:VEVENT
DTSTART;TZID=America/Los_Angeles:20190614T200000
DTEND;TZID=America/Los_Angeles:20190614T200000
DTSTAMP:20260419T181629
CREATED:20180716T225611Z
LAST-MODIFIED:20180716T225611Z
UID:1416-1560542400-1560542400@villagecove.net
SUMMARY:Karaoke at Saddleback!
DESCRIPTION:
URL:https://villagecove.net/event/karaoke-at-saddleback-2019-06-14/
LOCATION:Saddleback Inn\, 282 S. State HWY 173\, Lake Arrowhead\, CA\, 92352\, United States
END:VEVENT
BEGIN:VEVENT
DTSTART;TZID=America/Los_Angeles:20190611T200000
DTEND;TZID=America/Los_Angeles:20190611T200000
DTSTAMP:20260419T181629
CREATED:20180716T225611Z
LAST-MODIFIED:20180716T231912Z
UID:1310-1560283200-1560283200@villagecove.net
SUMMARY:Karaoke at Saddleback!
DESCRIPTION:
URL:https://villagecove.net/event/karaoke-at-saddleback-2019-06-11/
LOCATION:Saddleback Inn\, 282 S. State HWY 173\, Lake Arrowhead\, CA\, 92352\, United States
END:VEVENT
BEGIN:VEVENT
DTSTART;TZID=America/Los_Angeles:20190607T200000
DTEND;TZID=America/Los_Angeles:20190607T200000
DTSTAMP:20260419T181629
CREATED:20180716T225611Z
LAST-MODIFIED:20180716T225611Z
UID:1415-1559937600-1559937600@villagecove.net
SUMMARY:Karaoke at Saddleback!
DESCRIPTION:
URL:https://villagecove.net/event/karaoke-at-saddleback-2019-06-07/
LOCATION:Saddleback Inn\, 282 S. State HWY 173\, Lake Arrowhead\, CA\, 92352\, United States
END:VEVENT
BEGIN:VEVENT
DTSTART;TZID=America/Los_Angeles:20190604T200000
DTEND;TZID=America/Los_Angeles:20190604T200000
DTSTAMP:20260419T181629
CREATED:20180716T225611Z
LAST-MODIFIED:20180716T231912Z
UID:1309-1559678400-1559678400@villagecove.net
SUMMARY:Karaoke at Saddleback!
DESCRIPTION:
URL:https://villagecove.net/event/karaoke-at-saddleback-2019-06-04/
LOCATION:Saddleback Inn\, 282 S. State HWY 173\, Lake Arrowhead\, CA\, 92352\, United States
END:VEVENT
BEGIN:VEVENT
DTSTART;TZID=America/Los_Angeles:20190531T200000
DTEND;TZID=America/Los_Angeles:20190531T200000
DTSTAMP:20260419T181629
CREATED:20180716T225611Z
LAST-MODIFIED:20180716T225611Z
UID:1414-1559332800-1559332800@villagecove.net
SUMMARY:Karaoke at Saddleback!
DESCRIPTION:
URL:https://villagecove.net/event/karaoke-at-saddleback-2019-05-31/
LOCATION:Saddleback Inn\, 282 S. State HWY 173\, Lake Arrowhead\, CA\, 92352\, United States
END:VEVENT
BEGIN:VEVENT
DTSTART;TZID=America/Los_Angeles:20190528T200000
DTEND;TZID=America/Los_Angeles:20190528T200000
DTSTAMP:20260419T181629
CREATED:20180716T225611Z
LAST-MODIFIED:20180716T231912Z
UID:1308-1559073600-1559073600@villagecove.net
SUMMARY:Karaoke at Saddleback!
DESCRIPTION:
URL:https://villagecove.net/event/karaoke-at-saddleback-2019-05-28/
LOCATION:Saddleback Inn\, 282 S. State HWY 173\, Lake Arrowhead\, CA\, 92352\, United States
END:VEVENT
BEGIN:VEVENT
DTSTART;TZID=America/Los_Angeles:20190524T200000
DTEND;TZID=America/Los_Angeles:20190524T200000
DTSTAMP:20260419T181629
CREATED:20180716T225611Z
LAST-MODIFIED:20180716T225611Z
UID:1413-1558728000-1558728000@villagecove.net
SUMMARY:Karaoke at Saddleback!
DESCRIPTION:
URL:https://villagecove.net/event/karaoke-at-saddleback-2019-05-24/
LOCATION:Saddleback Inn\, 282 S. State HWY 173\, Lake Arrowhead\, CA\, 92352\, United States
END:VEVENT
BEGIN:VEVENT
DTSTART;TZID=America/Los_Angeles:20190521T200000
DTEND;TZID=America/Los_Angeles:20190521T200000
DTSTAMP:20260419T181629
CREATED:20180716T225611Z
LAST-MODIFIED:20180716T231912Z
UID:1307-1558468800-1558468800@villagecove.net
SUMMARY:Karaoke at Saddleback!
DESCRIPTION:
URL:https://villagecove.net/event/karaoke-at-saddleback-2019-05-21/
LOCATION:Saddleback Inn\, 282 S. State HWY 173\, Lake Arrowhead\, CA\, 92352\, United States
END:VEVENT
BEGIN:VEVENT
DTSTART;TZID=America/Los_Angeles:20190520T170000
DTEND;TZID=America/Los_Angeles:20190520T173000
DTSTAMP:20260419T181629
CREATED:20180716T232830Z
LAST-MODIFIED:20180716T233021Z
UID:1587-1558371600-1558373400@villagecove.net
SUMMARY:Executive Committee Meeting
DESCRIPTION:
URL:https://villagecove.net/event/executive-committee-meeting-2019-05-20/
LOCATION:Lake Arrowhead\, CA\, 92352\, United States
END:VEVENT
BEGIN:VEVENT
DTSTART;TZID=America/Los_Angeles:20190517T200000
DTEND;TZID=America/Los_Angeles:20190517T200000
DTSTAMP:20260419T181629
CREATED:20180716T225611Z
LAST-MODIFIED:20180716T225611Z
UID:1412-1558123200-1558123200@villagecove.net
SUMMARY:Karaoke at Saddleback!
DESCRIPTION:
URL:https://villagecove.net/event/karaoke-at-saddleback-2019-05-17/
LOCATION:Saddleback Inn\, 282 S. State HWY 173\, Lake Arrowhead\, CA\, 92352\, United States
END:VEVENT
BEGIN:VEVENT
DTSTART;TZID=America/Los_Angeles:20190514T200000
DTEND;TZID=America/Los_Angeles:20190514T200000
DTSTAMP:20260419T181629
CREATED:20180716T225611Z
LAST-MODIFIED:20180716T231912Z
UID:1306-1557864000-1557864000@villagecove.net
SUMMARY:Karaoke at Saddleback!
DESCRIPTION:
URL:https://villagecove.net/event/karaoke-at-saddleback-2019-05-14/
LOCATION:Saddleback Inn\, 282 S. State HWY 173\, Lake Arrowhead\, CA\, 92352\, United States
END:VEVENT
BEGIN:VEVENT
DTSTART;TZID=America/Los_Angeles:20190510T200000
DTEND;TZID=America/Los_Angeles:20190510T200000
DTSTAMP:20260419T181629
CREATED:20180716T225611Z
LAST-MODIFIED:20180716T225611Z
UID:1411-1557518400-1557518400@villagecove.net
SUMMARY:Karaoke at Saddleback!
DESCRIPTION:
URL:https://villagecove.net/event/karaoke-at-saddleback-2019-05-10/
LOCATION:Saddleback Inn\, 282 S. State HWY 173\, Lake Arrowhead\, CA\, 92352\, United States
END:VEVENT
BEGIN:VEVENT
DTSTART;TZID=America/Los_Angeles:20190507T200000
DTEND;TZID=America/Los_Angeles:20190507T200000
DTSTAMP:20260419T181629
CREATED:20180716T225611Z
LAST-MODIFIED:20180716T231912Z
UID:1305-1557259200-1557259200@villagecove.net
SUMMARY:Karaoke at Saddleback!
DESCRIPTION:
URL:https://villagecove.net/event/karaoke-at-saddleback-2019-05-07/
LOCATION:Saddleback Inn\, 282 S. State HWY 173\, Lake Arrowhead\, CA\, 92352\, United States
END:VEVENT
BEGIN:VEVENT
DTSTART;TZID=America/Los_Angeles:20190503T200000
DTEND;TZID=America/Los_Angeles:20190503T200000
DTSTAMP:20260419T181629
CREATED:20180716T225611Z
LAST-MODIFIED:20180716T225611Z
UID:1410-1556913600-1556913600@villagecove.net
SUMMARY:Karaoke at Saddleback!
DESCRIPTION:
URL:https://villagecove.net/event/karaoke-at-saddleback-2019-05-03/
LOCATION:Saddleback Inn\, 282 S. State HWY 173\, Lake Arrowhead\, CA\, 92352\, United States
END:VEVENT
BEGIN:VEVENT
DTSTART;TZID=America/Los_Angeles:20190430T200000
DTEND;TZID=America/Los_Angeles:20190430T200000
DTSTAMP:20260419T181629
CREATED:20180716T225611Z
LAST-MODIFIED:20180716T231912Z
UID:1304-1556654400-1556654400@villagecove.net
SUMMARY:Karaoke at Saddleback!
DESCRIPTION:
URL:https://villagecove.net/event/karaoke-at-saddleback-2019-04-30/
LOCATION:Saddleback Inn\, 282 S. State HWY 173\, Lake Arrowhead\, CA\, 92352\, United States
END:VEVENT
BEGIN:VEVENT
DTSTART;TZID=America/Los_Angeles:20190426T200000
DTEND;TZID=America/Los_Angeles:20190426T200000
DTSTAMP:20260419T181629
CREATED:20180716T225611Z
LAST-MODIFIED:20180716T225611Z
UID:1409-1556308800-1556308800@villagecove.net
SUMMARY:Karaoke at Saddleback!
DESCRIPTION:
URL:https://villagecove.net/event/karaoke-at-saddleback-2019-04-26/
LOCATION:Saddleback Inn\, 282 S. State HWY 173\, Lake Arrowhead\, CA\, 92352\, United States
END:VEVENT
END:VCALENDAR