BEGIN:VCALENDAR
VERSION:2.0
PRODID:-//Village Cove - ECPv5.14.1//NONSGML v1.0//EN
CALSCALE:GREGORIAN
METHOD:PUBLISH
X-WR-CALNAME:Village Cove
X-ORIGINAL-URL:https://villagecove.net
X-WR-CALDESC:Events for Village Cove
REFRESH-INTERVAL;VALUE=DURATION:PT1H
X-Robots-Tag:noindex
X-PUBLISHED-TTL:PT1H
BEGIN:VTIMEZONE
TZID:America/Los_Angeles
BEGIN:DAYLIGHT
TZOFFSETFROM:-0800
TZOFFSETTO:-0700
TZNAME:PDT
DTSTART:20180311T100000
END:DAYLIGHT
BEGIN:STANDARD
TZOFFSETFROM:-0700
TZOFFSETTO:-0800
TZNAME:PST
DTSTART:20181104T090000
END:STANDARD
END:VTIMEZONE
BEGIN:VEVENT
DTSTART;TZID=America/Los_Angeles:20180306T200000
DTEND;TZID=America/Los_Angeles:20180306T200000
DTSTAMP:20260420T142810
CREATED:20180716T225611Z
LAST-MODIFIED:20180716T231906Z
UID:1244-1520366400-1520366400@villagecove.net
SUMMARY:Karaoke at Saddleback!
DESCRIPTION:
URL:https://villagecove.net/event/karaoke-at-saddleback-2018-03-06/
LOCATION:Saddleback Inn\, 282 S. State HWY 173\, Lake Arrowhead\, CA\, 92352\, United States
END:VEVENT
BEGIN:VEVENT
DTSTART;TZID=America/Los_Angeles:20180306T080000
DTEND;TZID=America/Los_Angeles:20180306T090000
DTSTAMP:20260420T142810
CREATED:20180716T153416Z
LAST-MODIFIED:20180716T153416Z
UID:1625-1520323200-1520326800@villagecove.net
SUMMARY:Governmental Affairs Committee
DESCRIPTION:
URL:https://villagecove.net/event/governmental-affairs-committee/
LOCATION:Lake Arrowhead\, CA\, 92352\, United States
END:VEVENT
BEGIN:VEVENT
DTSTART;TZID=America/Los_Angeles:20180302T200000
DTEND;TZID=America/Los_Angeles:20180302T200000
DTSTAMP:20260420T142810
CREATED:20180716T225611Z
LAST-MODIFIED:20180716T225611Z
UID:1349-1520020800-1520020800@villagecove.net
SUMMARY:Karaoke at Saddleback!
DESCRIPTION:
URL:https://villagecove.net/event/karaoke-at-saddleback-2018-03-02/
LOCATION:Saddleback Inn\, 282 S. State HWY 173\, Lake Arrowhead\, CA\, 92352\, United States
END:VEVENT
BEGIN:VEVENT
DTSTART;TZID=America/Los_Angeles:20180102T200000
DTEND;TZID=America/Los_Angeles:20180102T200000
DTSTAMP:20260420T142810
CREATED:20180716T225611Z
LAST-MODIFIED:20180716T231852Z
UID:1222-1514923200-1514923200@villagecove.net
SUMMARY:Karaoke at Saddleback!
DESCRIPTION:
URL:https://villagecove.net/event/karaoke-at-saddleback/
LOCATION:Saddleback Inn\, 282 S. State HWY 173\, Lake Arrowhead\, CA\, 92352\, United States
END:VEVENT
END:VCALENDAR