BEGIN:VCALENDAR
VERSION:2.0
PRODID:-//Village Cove - ECPv5.14.1//NONSGML v1.0//EN
CALSCALE:GREGORIAN
METHOD:PUBLISH
X-WR-CALNAME:Village Cove
X-ORIGINAL-URL:https://villagecove.net
X-WR-CALDESC:Events for Village Cove
REFRESH-INTERVAL;VALUE=DURATION:PT1H
X-Robots-Tag:noindex
X-PUBLISHED-TTL:PT1H
BEGIN:VTIMEZONE
TZID:America/Los_Angeles
BEGIN:DAYLIGHT
TZOFFSETFROM:-0800
TZOFFSETTO:-0700
TZNAME:PDT
DTSTART:20180311T100000
END:DAYLIGHT
BEGIN:STANDARD
TZOFFSETFROM:-0700
TZOFFSETTO:-0800
TZNAME:PST
DTSTART:20181104T090000
END:STANDARD
END:VTIMEZONE
BEGIN:VEVENT
DTSTART;TZID=America/Los_Angeles:20180716T173000
DTEND;TZID=America/Los_Angeles:20180716T180000
DTSTAMP:20260420T072846
CREATED:20180716T153237Z
LAST-MODIFIED:20180716T153237Z
UID:1621-1531762200-1531764000@villagecove.net
SUMMARY:Board of Directors Meeting
DESCRIPTION:
URL:https://villagecove.net/event/board-of-directors-meeting-2018-07-16/
LOCATION:Lake Arrowhead\, CA\, 92352\, United States
END:VEVENT
BEGIN:VEVENT
DTSTART;TZID=America/Los_Angeles:20180716T170000
DTEND;TZID=America/Los_Angeles:20180716T173000
DTSTAMP:20260420T072846
CREATED:20180716T232830Z
LAST-MODIFIED:20180716T233018Z
UID:1556-1531760400-1531762200@villagecove.net
SUMMARY:Executive Committee Meeting
DESCRIPTION:
URL:https://villagecove.net/event/executive-committee-meeting-2018-07-16/
LOCATION:Lake Arrowhead\, CA\, 92352\, United States
END:VEVENT
BEGIN:VEVENT
DTSTART;TZID=America/Los_Angeles:20180713T200000
DTEND;TZID=America/Los_Angeles:20180713T200000
DTSTAMP:20260420T072846
CREATED:20180716T225611Z
LAST-MODIFIED:20180716T225611Z
UID:1368-1531512000-1531512000@villagecove.net
SUMMARY:Karaoke at Saddleback!
DESCRIPTION:
URL:https://villagecove.net/event/karaoke-at-saddleback-2018-07-13/
LOCATION:Saddleback Inn\, 282 S. State HWY 173\, Lake Arrowhead\, CA\, 92352\, United States
END:VEVENT
BEGIN:VEVENT
DTSTART;TZID=America/Los_Angeles:20180710T200000
DTEND;TZID=America/Los_Angeles:20180710T200000
DTSTAMP:20260420T072846
CREATED:20180716T225611Z
LAST-MODIFIED:20180716T231908Z
UID:1262-1531252800-1531252800@villagecove.net
SUMMARY:Karaoke at Saddleback!
DESCRIPTION:
URL:https://villagecove.net/event/karaoke-at-saddleback-2018-07-10/
LOCATION:Saddleback Inn\, 282 S. State HWY 173\, Lake Arrowhead\, CA\, 92352\, United States
END:VEVENT
BEGIN:VEVENT
DTSTART;TZID=America/Los_Angeles:20180706T200000
DTEND;TZID=America/Los_Angeles:20180706T200000
DTSTAMP:20260420T072846
CREATED:20180716T225611Z
LAST-MODIFIED:20180716T225611Z
UID:1367-1530907200-1530907200@villagecove.net
SUMMARY:Karaoke at Saddleback!
DESCRIPTION:
URL:https://villagecove.net/event/karaoke-at-saddleback-2018-07-06/
LOCATION:Saddleback Inn\, 282 S. State HWY 173\, Lake Arrowhead\, CA\, 92352\, United States
END:VEVENT
BEGIN:VEVENT
DTSTART;TZID=America/Los_Angeles:20180703T200000
DTEND;TZID=America/Los_Angeles:20180703T200000
DTSTAMP:20260420T072846
CREATED:20180716T225611Z
LAST-MODIFIED:20180716T231907Z
UID:1261-1530648000-1530648000@villagecove.net
SUMMARY:Karaoke at Saddleback!
DESCRIPTION:
URL:https://villagecove.net/event/karaoke-at-saddleback-2018-07-03/
LOCATION:Saddleback Inn\, 282 S. State HWY 173\, Lake Arrowhead\, CA\, 92352\, United States
END:VEVENT
BEGIN:VEVENT
DTSTART;TZID=America/Los_Angeles:20180703T080000
DTEND;TZID=America/Los_Angeles:20180703T090000
DTSTAMP:20260420T072846
CREATED:20180716T153416Z
LAST-MODIFIED:20180716T153416Z
UID:1631-1530604800-1530608400@villagecove.net
SUMMARY:Governmental Affairs Committee
DESCRIPTION:
URL:https://villagecove.net/event/governmental-affairs-committee-2018-07-03/
LOCATION:Lake Arrowhead\, CA\, 92352\, United States
END:VEVENT
BEGIN:VEVENT
DTSTART;TZID=America/Los_Angeles:20180629T200000
DTEND;TZID=America/Los_Angeles:20180629T200000
DTSTAMP:20260420T072846
CREATED:20180716T225611Z
LAST-MODIFIED:20180716T225611Z
UID:1366-1530302400-1530302400@villagecove.net
SUMMARY:Karaoke at Saddleback!
DESCRIPTION:
URL:https://villagecove.net/event/karaoke-at-saddleback-2018-06-29/
LOCATION:Saddleback Inn\, 282 S. State HWY 173\, Lake Arrowhead\, CA\, 92352\, United States
END:VEVENT
BEGIN:VEVENT
DTSTART;TZID=America/Los_Angeles:20180626T200000
DTEND;TZID=America/Los_Angeles:20180626T200000
DTSTAMP:20260420T072846
CREATED:20180716T225611Z
LAST-MODIFIED:20180716T231907Z
UID:1260-1530043200-1530043200@villagecove.net
SUMMARY:Karaoke at Saddleback!
DESCRIPTION:
URL:https://villagecove.net/event/karaoke-at-saddleback-2018-06-26/
LOCATION:Saddleback Inn\, 282 S. State HWY 173\, Lake Arrowhead\, CA\, 92352\, United States
END:VEVENT
BEGIN:VEVENT
DTSTART;TZID=America/Los_Angeles:20180622T200000
DTEND;TZID=America/Los_Angeles:20180622T200000
DTSTAMP:20260420T072846
CREATED:20180716T225611Z
LAST-MODIFIED:20180716T225611Z
UID:1365-1529697600-1529697600@villagecove.net
SUMMARY:Karaoke at Saddleback!
DESCRIPTION:
URL:https://villagecove.net/event/karaoke-at-saddleback-2018-06-22/
LOCATION:Saddleback Inn\, 282 S. State HWY 173\, Lake Arrowhead\, CA\, 92352\, United States
END:VEVENT
BEGIN:VEVENT
DTSTART;TZID=America/Los_Angeles:20180619T200000
DTEND;TZID=America/Los_Angeles:20180619T200000
DTSTAMP:20260420T072846
CREATED:20180716T225611Z
LAST-MODIFIED:20180716T231907Z
UID:1259-1529438400-1529438400@villagecove.net
SUMMARY:Karaoke at Saddleback!
DESCRIPTION:
URL:https://villagecove.net/event/karaoke-at-saddleback-2018-06-19/
LOCATION:Saddleback Inn\, 282 S. State HWY 173\, Lake Arrowhead\, CA\, 92352\, United States
END:VEVENT
BEGIN:VEVENT
DTSTART;TZID=America/Los_Angeles:20180618T173000
DTEND;TZID=America/Los_Angeles:20180618T180000
DTSTAMP:20260420T072846
CREATED:20180716T153237Z
LAST-MODIFIED:20180716T153237Z
UID:1620-1529343000-1529344800@villagecove.net
SUMMARY:Board of Directors Meeting
DESCRIPTION:
URL:https://villagecove.net/event/board-of-directors-meeting-2018-06-18/
LOCATION:Lake Arrowhead\, CA\, 92352\, United States
END:VEVENT
BEGIN:VEVENT
DTSTART;TZID=America/Los_Angeles:20180618T170000
DTEND;TZID=America/Los_Angeles:20180618T173000
DTSTAMP:20260420T072846
CREATED:20180716T232830Z
LAST-MODIFIED:20180716T233018Z
UID:1577-1529341200-1529343000@villagecove.net
SUMMARY:Executive Committee Meeting
DESCRIPTION:
URL:https://villagecove.net/event/executive-committee-meeting-2018-06-18/
LOCATION:Lake Arrowhead\, CA\, 92352\, United States
END:VEVENT
BEGIN:VEVENT
DTSTART;TZID=America/Los_Angeles:20180615T200000
DTEND;TZID=America/Los_Angeles:20180615T200000
DTSTAMP:20260420T072846
CREATED:20180716T225611Z
LAST-MODIFIED:20180716T225611Z
UID:1364-1529092800-1529092800@villagecove.net
SUMMARY:Karaoke at Saddleback!
DESCRIPTION:
URL:https://villagecove.net/event/karaoke-at-saddleback-2018-06-15/
LOCATION:Saddleback Inn\, 282 S. State HWY 173\, Lake Arrowhead\, CA\, 92352\, United States
END:VEVENT
BEGIN:VEVENT
DTSTART;TZID=America/Los_Angeles:20180612T200000
DTEND;TZID=America/Los_Angeles:20180612T200000
DTSTAMP:20260420T072846
CREATED:20180716T225611Z
LAST-MODIFIED:20180716T231907Z
UID:1258-1528833600-1528833600@villagecove.net
SUMMARY:Karaoke at Saddleback!
DESCRIPTION:
URL:https://villagecove.net/event/karaoke-at-saddleback-2018-06-12/
LOCATION:Saddleback Inn\, 282 S. State HWY 173\, Lake Arrowhead\, CA\, 92352\, United States
END:VEVENT
BEGIN:VEVENT
DTSTART;TZID=America/Los_Angeles:20180608T200000
DTEND;TZID=America/Los_Angeles:20180608T200000
DTSTAMP:20260420T072846
CREATED:20180716T225611Z
LAST-MODIFIED:20180716T225611Z
UID:1363-1528488000-1528488000@villagecove.net
SUMMARY:Karaoke at Saddleback!
DESCRIPTION:
URL:https://villagecove.net/event/karaoke-at-saddleback-2018-06-08/
LOCATION:Saddleback Inn\, 282 S. State HWY 173\, Lake Arrowhead\, CA\, 92352\, United States
END:VEVENT
BEGIN:VEVENT
DTSTART;TZID=America/Los_Angeles:20180605T200000
DTEND;TZID=America/Los_Angeles:20180605T200000
DTSTAMP:20260420T072846
CREATED:20180716T225611Z
LAST-MODIFIED:20180716T231907Z
UID:1257-1528228800-1528228800@villagecove.net
SUMMARY:Karaoke at Saddleback!
DESCRIPTION:
URL:https://villagecove.net/event/karaoke-at-saddleback-2018-06-05/
LOCATION:Saddleback Inn\, 282 S. State HWY 173\, Lake Arrowhead\, CA\, 92352\, United States
END:VEVENT
BEGIN:VEVENT
DTSTART;TZID=America/Los_Angeles:20180605T080000
DTEND;TZID=America/Los_Angeles:20180605T090000
DTSTAMP:20260420T072846
CREATED:20180716T153416Z
LAST-MODIFIED:20180716T153416Z
UID:1630-1528185600-1528189200@villagecove.net
SUMMARY:Governmental Affairs Committee
DESCRIPTION:
URL:https://villagecove.net/event/governmental-affairs-committee-2018-06-05/
LOCATION:Lake Arrowhead\, CA\, 92352\, United States
END:VEVENT
BEGIN:VEVENT
DTSTART;TZID=America/Los_Angeles:20180601T200000
DTEND;TZID=America/Los_Angeles:20180601T200000
DTSTAMP:20260420T072846
CREATED:20180716T225611Z
LAST-MODIFIED:20180716T225611Z
UID:1362-1527883200-1527883200@villagecove.net
SUMMARY:Karaoke at Saddleback!
DESCRIPTION:
URL:https://villagecove.net/event/karaoke-at-saddleback-2018-06-01/
LOCATION:Saddleback Inn\, 282 S. State HWY 173\, Lake Arrowhead\, CA\, 92352\, United States
END:VEVENT
BEGIN:VEVENT
DTSTART;TZID=America/Los_Angeles:20180529T200000
DTEND;TZID=America/Los_Angeles:20180529T200000
DTSTAMP:20260420T072846
CREATED:20180716T225611Z
LAST-MODIFIED:20180716T231907Z
UID:1256-1527624000-1527624000@villagecove.net
SUMMARY:Karaoke at Saddleback!
DESCRIPTION:
URL:https://villagecove.net/event/karaoke-at-saddleback-2018-05-29/
LOCATION:Saddleback Inn\, 282 S. State HWY 173\, Lake Arrowhead\, CA\, 92352\, United States
END:VEVENT
BEGIN:VEVENT
DTSTART;TZID=America/Los_Angeles:20180525T200000
DTEND;TZID=America/Los_Angeles:20180525T200000
DTSTAMP:20260420T072846
CREATED:20180716T225611Z
LAST-MODIFIED:20180716T225611Z
UID:1361-1527278400-1527278400@villagecove.net
SUMMARY:Karaoke at Saddleback!
DESCRIPTION:
URL:https://villagecove.net/event/karaoke-at-saddleback-2018-05-25/
LOCATION:Saddleback Inn\, 282 S. State HWY 173\, Lake Arrowhead\, CA\, 92352\, United States
END:VEVENT
BEGIN:VEVENT
DTSTART;TZID=America/Los_Angeles:20180522T200000
DTEND;TZID=America/Los_Angeles:20180522T200000
DTSTAMP:20260420T072846
CREATED:20180716T225611Z
LAST-MODIFIED:20180716T231907Z
UID:1255-1527019200-1527019200@villagecove.net
SUMMARY:Karaoke at Saddleback!
DESCRIPTION:
URL:https://villagecove.net/event/karaoke-at-saddleback-2018-05-22/
LOCATION:Saddleback Inn\, 282 S. State HWY 173\, Lake Arrowhead\, CA\, 92352\, United States
END:VEVENT
BEGIN:VEVENT
DTSTART;TZID=America/Los_Angeles:20180521T173000
DTEND;TZID=America/Los_Angeles:20180521T180000
DTSTAMP:20260420T072846
CREATED:20180716T153237Z
LAST-MODIFIED:20180716T153237Z
UID:1619-1526923800-1526925600@villagecove.net
SUMMARY:Board of Directors Meeting
DESCRIPTION:
URL:https://villagecove.net/event/board-of-directors-meeting-2018-05-21/
LOCATION:Lake Arrowhead\, CA\, 92352\, United States
END:VEVENT
BEGIN:VEVENT
DTSTART;TZID=America/Los_Angeles:20180521T170000
DTEND;TZID=America/Los_Angeles:20180521T173000
DTSTAMP:20260420T072846
CREATED:20180716T232830Z
LAST-MODIFIED:20180716T233018Z
UID:1576-1526922000-1526923800@villagecove.net
SUMMARY:Executive Committee Meeting
DESCRIPTION:
URL:https://villagecove.net/event/executive-committee-meeting-2018-05-21/
LOCATION:Lake Arrowhead\, CA\, 92352\, United States
END:VEVENT
BEGIN:VEVENT
DTSTART;TZID=America/Los_Angeles:20180518T200000
DTEND;TZID=America/Los_Angeles:20180518T200000
DTSTAMP:20260420T072846
CREATED:20180716T225611Z
LAST-MODIFIED:20180716T225611Z
UID:1360-1526673600-1526673600@villagecove.net
SUMMARY:Karaoke at Saddleback!
DESCRIPTION:
URL:https://villagecove.net/event/karaoke-at-saddleback-2018-05-18/
LOCATION:Saddleback Inn\, 282 S. State HWY 173\, Lake Arrowhead\, CA\, 92352\, United States
END:VEVENT
BEGIN:VEVENT
DTSTART;TZID=America/Los_Angeles:20180515T200000
DTEND;TZID=America/Los_Angeles:20180515T200000
DTSTAMP:20260420T072846
CREATED:20180716T225611Z
LAST-MODIFIED:20180716T231907Z
UID:1254-1526414400-1526414400@villagecove.net
SUMMARY:Karaoke at Saddleback!
DESCRIPTION:
URL:https://villagecove.net/event/karaoke-at-saddleback-2018-05-15/
LOCATION:Saddleback Inn\, 282 S. State HWY 173\, Lake Arrowhead\, CA\, 92352\, United States
END:VEVENT
BEGIN:VEVENT
DTSTART;TZID=America/Los_Angeles:20180511T200000
DTEND;TZID=America/Los_Angeles:20180511T200000
DTSTAMP:20260420T072846
CREATED:20180716T225611Z
LAST-MODIFIED:20180716T225611Z
UID:1359-1526068800-1526068800@villagecove.net
SUMMARY:Karaoke at Saddleback!
DESCRIPTION:
URL:https://villagecove.net/event/karaoke-at-saddleback-2018-05-11/
LOCATION:Saddleback Inn\, 282 S. State HWY 173\, Lake Arrowhead\, CA\, 92352\, United States
END:VEVENT
BEGIN:VEVENT
DTSTART;TZID=America/Los_Angeles:20180508T200000
DTEND;TZID=America/Los_Angeles:20180508T200000
DTSTAMP:20260420T072846
CREATED:20180716T225611Z
LAST-MODIFIED:20180716T231907Z
UID:1253-1525809600-1525809600@villagecove.net
SUMMARY:Karaoke at Saddleback!
DESCRIPTION:
URL:https://villagecove.net/event/karaoke-at-saddleback-2018-05-08/
LOCATION:Saddleback Inn\, 282 S. State HWY 173\, Lake Arrowhead\, CA\, 92352\, United States
END:VEVENT
BEGIN:VEVENT
DTSTART;TZID=America/Los_Angeles:20180504T200000
DTEND;TZID=America/Los_Angeles:20180504T200000
DTSTAMP:20260420T072846
CREATED:20180716T225611Z
LAST-MODIFIED:20180716T225611Z
UID:1358-1525464000-1525464000@villagecove.net
SUMMARY:Karaoke at Saddleback!
DESCRIPTION:
URL:https://villagecove.net/event/karaoke-at-saddleback-2018-05-04/
LOCATION:Saddleback Inn\, 282 S. State HWY 173\, Lake Arrowhead\, CA\, 92352\, United States
END:VEVENT
BEGIN:VEVENT
DTSTART;TZID=America/Los_Angeles:20180501T200000
DTEND;TZID=America/Los_Angeles:20180501T200000
DTSTAMP:20260420T072846
CREATED:20180716T225611Z
LAST-MODIFIED:20180716T231907Z
UID:1252-1525204800-1525204800@villagecove.net
SUMMARY:Karaoke at Saddleback!
DESCRIPTION:
URL:https://villagecove.net/event/karaoke-at-saddleback-2018-05-01/
LOCATION:Saddleback Inn\, 282 S. State HWY 173\, Lake Arrowhead\, CA\, 92352\, United States
END:VEVENT
END:VCALENDAR