BEGIN:VCALENDAR
VERSION:2.0
PRODID:-//Village Cove - ECPv5.14.1//NONSGML v1.0//EN
CALSCALE:GREGORIAN
METHOD:PUBLISH
X-WR-CALNAME:Village Cove
X-ORIGINAL-URL:https://villagecove.net
X-WR-CALDESC:Events for Village Cove
REFRESH-INTERVAL;VALUE=DURATION:PT1H
X-Robots-Tag:noindex
X-PUBLISHED-TTL:PT1H
BEGIN:VTIMEZONE
TZID:America/Los_Angeles
BEGIN:DAYLIGHT
TZOFFSETFROM:-0800
TZOFFSETTO:-0700
TZNAME:PDT
DTSTART:20180311T100000
END:DAYLIGHT
BEGIN:STANDARD
TZOFFSETFROM:-0700
TZOFFSETTO:-0800
TZNAME:PST
DTSTART:20181104T090000
END:STANDARD
END:VTIMEZONE
BEGIN:VEVENT
DTSTART;TZID=America/Los_Angeles:20181119T170000
DTEND;TZID=America/Los_Angeles:20181119T173000
DTSTAMP:20260419T224408
CREATED:20180716T232830Z
LAST-MODIFIED:20180716T233018Z
UID:1581-1542646800-1542648600@villagecove.net
SUMMARY:Executive Committee Meeting
DESCRIPTION:
URL:https://villagecove.net/event/executive-committee-meeting-2018-11-19/
LOCATION:Lake Arrowhead\, CA\, 92352\, United States
END:VEVENT
BEGIN:VEVENT
DTSTART;TZID=America/Los_Angeles:20181116T200000
DTEND;TZID=America/Los_Angeles:20181116T200000
DTSTAMP:20260419T224408
CREATED:20180716T225611Z
LAST-MODIFIED:20180716T225611Z
UID:1386-1542398400-1542398400@villagecove.net
SUMMARY:Karaoke at Saddleback!
DESCRIPTION:
URL:https://villagecove.net/event/karaoke-at-saddleback-2018-11-16/
LOCATION:Saddleback Inn\, 282 S. State HWY 173\, Lake Arrowhead\, CA\, 92352\, United States
END:VEVENT
BEGIN:VEVENT
DTSTART;TZID=America/Los_Angeles:20181113T200000
DTEND;TZID=America/Los_Angeles:20181113T200000
DTSTAMP:20260419T224408
CREATED:20180716T225611Z
LAST-MODIFIED:20180716T231909Z
UID:1280-1542139200-1542139200@villagecove.net
SUMMARY:Karaoke at Saddleback!
DESCRIPTION:
URL:https://villagecove.net/event/karaoke-at-saddleback-2018-11-13/
LOCATION:Saddleback Inn\, 282 S. State HWY 173\, Lake Arrowhead\, CA\, 92352\, United States
END:VEVENT
BEGIN:VEVENT
DTSTART;TZID=America/Los_Angeles:20181109T200000
DTEND;TZID=America/Los_Angeles:20181109T200000
DTSTAMP:20260419T224408
CREATED:20180716T225611Z
LAST-MODIFIED:20180716T225611Z
UID:1385-1541793600-1541793600@villagecove.net
SUMMARY:Karaoke at Saddleback!
DESCRIPTION:
URL:https://villagecove.net/event/karaoke-at-saddleback-2018-11-09/
LOCATION:Saddleback Inn\, 282 S. State HWY 173\, Lake Arrowhead\, CA\, 92352\, United States
END:VEVENT
BEGIN:VEVENT
DTSTART;TZID=America/Los_Angeles:20181106T200000
DTEND;TZID=America/Los_Angeles:20181106T200000
DTSTAMP:20260419T224408
CREATED:20180716T225611Z
LAST-MODIFIED:20180716T231909Z
UID:1279-1541534400-1541534400@villagecove.net
SUMMARY:Karaoke at Saddleback!
DESCRIPTION:
URL:https://villagecove.net/event/karaoke-at-saddleback-2018-11-06/
LOCATION:Saddleback Inn\, 282 S. State HWY 173\, Lake Arrowhead\, CA\, 92352\, United States
END:VEVENT
BEGIN:VEVENT
DTSTART;TZID=America/Los_Angeles:20181102T200000
DTEND;TZID=America/Los_Angeles:20181102T200000
DTSTAMP:20260419T224408
CREATED:20180716T225611Z
LAST-MODIFIED:20180716T225611Z
UID:1384-1541188800-1541188800@villagecove.net
SUMMARY:Karaoke at Saddleback!
DESCRIPTION:
URL:https://villagecove.net/event/karaoke-at-saddleback-2018-11-02/
LOCATION:Saddleback Inn\, 282 S. State HWY 173\, Lake Arrowhead\, CA\, 92352\, United States
END:VEVENT
BEGIN:VEVENT
DTSTART;TZID=America/Los_Angeles:20181030T200000
DTEND;TZID=America/Los_Angeles:20181030T200000
DTSTAMP:20260419T224408
CREATED:20180716T225611Z
LAST-MODIFIED:20180716T231909Z
UID:1278-1540929600-1540929600@villagecove.net
SUMMARY:Karaoke at Saddleback!
DESCRIPTION:
URL:https://villagecove.net/event/karaoke-at-saddleback-2018-10-30/
LOCATION:Saddleback Inn\, 282 S. State HWY 173\, Lake Arrowhead\, CA\, 92352\, United States
END:VEVENT
BEGIN:VEVENT
DTSTART;TZID=America/Los_Angeles:20181026T200000
DTEND;TZID=America/Los_Angeles:20181026T200000
DTSTAMP:20260419T224408
CREATED:20180716T225611Z
LAST-MODIFIED:20180716T225611Z
UID:1383-1540584000-1540584000@villagecove.net
SUMMARY:Karaoke at Saddleback!
DESCRIPTION:
URL:https://villagecove.net/event/karaoke-at-saddleback-2018-10-26/
LOCATION:Saddleback Inn\, 282 S. State HWY 173\, Lake Arrowhead\, CA\, 92352\, United States
END:VEVENT
BEGIN:VEVENT
DTSTART;TZID=America/Los_Angeles:20181023T200000
DTEND;TZID=America/Los_Angeles:20181023T200000
DTSTAMP:20260419T224408
CREATED:20180716T225611Z
LAST-MODIFIED:20180716T231909Z
UID:1277-1540324800-1540324800@villagecove.net
SUMMARY:Karaoke at Saddleback!
DESCRIPTION:
URL:https://villagecove.net/event/karaoke-at-saddleback-2018-10-23/
LOCATION:Saddleback Inn\, 282 S. State HWY 173\, Lake Arrowhead\, CA\, 92352\, United States
END:VEVENT
BEGIN:VEVENT
DTSTART;TZID=America/Los_Angeles:20181019T200000
DTEND;TZID=America/Los_Angeles:20181019T200000
DTSTAMP:20260419T224408
CREATED:20180716T225611Z
LAST-MODIFIED:20180716T225611Z
UID:1382-1539979200-1539979200@villagecove.net
SUMMARY:Karaoke at Saddleback!
DESCRIPTION:
URL:https://villagecove.net/event/karaoke-at-saddleback-2018-10-19/
LOCATION:Saddleback Inn\, 282 S. State HWY 173\, Lake Arrowhead\, CA\, 92352\, United States
END:VEVENT
BEGIN:VEVENT
DTSTART;TZID=America/Los_Angeles:20181016T200000
DTEND;TZID=America/Los_Angeles:20181016T200000
DTSTAMP:20260419T224408
CREATED:20180716T225611Z
LAST-MODIFIED:20180716T231909Z
UID:1276-1539720000-1539720000@villagecove.net
SUMMARY:Karaoke at Saddleback!
DESCRIPTION:
URL:https://villagecove.net/event/karaoke-at-saddleback-2018-10-16/
LOCATION:Saddleback Inn\, 282 S. State HWY 173\, Lake Arrowhead\, CA\, 92352\, United States
END:VEVENT
BEGIN:VEVENT
DTSTART;TZID=America/Los_Angeles:20181015T170000
DTEND;TZID=America/Los_Angeles:20181015T173000
DTSTAMP:20260419T224408
CREATED:20180716T232830Z
LAST-MODIFIED:20180716T233018Z
UID:1580-1539622800-1539624600@villagecove.net
SUMMARY:Executive Committee Meeting
DESCRIPTION:
URL:https://villagecove.net/event/executive-committee-meeting-2018-10-15/
LOCATION:Lake Arrowhead\, CA\, 92352\, United States
END:VEVENT
BEGIN:VEVENT
DTSTART;TZID=America/Los_Angeles:20181012T200000
DTEND;TZID=America/Los_Angeles:20181012T200000
DTSTAMP:20260419T224408
CREATED:20180716T225611Z
LAST-MODIFIED:20180716T225611Z
UID:1381-1539374400-1539374400@villagecove.net
SUMMARY:Karaoke at Saddleback!
DESCRIPTION:
URL:https://villagecove.net/event/karaoke-at-saddleback-2018-10-12/
LOCATION:Saddleback Inn\, 282 S. State HWY 173\, Lake Arrowhead\, CA\, 92352\, United States
END:VEVENT
BEGIN:VEVENT
DTSTART;TZID=America/Los_Angeles:20181009T200000
DTEND;TZID=America/Los_Angeles:20181009T200000
DTSTAMP:20260419T224408
CREATED:20180716T225611Z
LAST-MODIFIED:20180716T231909Z
UID:1275-1539115200-1539115200@villagecove.net
SUMMARY:Karaoke at Saddleback!
DESCRIPTION:
URL:https://villagecove.net/event/karaoke-at-saddleback-2018-10-09/
LOCATION:Saddleback Inn\, 282 S. State HWY 173\, Lake Arrowhead\, CA\, 92352\, United States
END:VEVENT
BEGIN:VEVENT
DTSTART;TZID=America/Los_Angeles:20181005T200000
DTEND;TZID=America/Los_Angeles:20181005T200000
DTSTAMP:20260419T224408
CREATED:20180716T225611Z
LAST-MODIFIED:20180716T225611Z
UID:1380-1538769600-1538769600@villagecove.net
SUMMARY:Karaoke at Saddleback!
DESCRIPTION:
URL:https://villagecove.net/event/karaoke-at-saddleback-2018-10-05/
LOCATION:Saddleback Inn\, 282 S. State HWY 173\, Lake Arrowhead\, CA\, 92352\, United States
END:VEVENT
BEGIN:VEVENT
DTSTART;TZID=America/Los_Angeles:20181002T200000
DTEND;TZID=America/Los_Angeles:20181002T200000
DTSTAMP:20260419T224408
CREATED:20180716T225611Z
LAST-MODIFIED:20180716T231909Z
UID:1274-1538510400-1538510400@villagecove.net
SUMMARY:Karaoke at Saddleback!
DESCRIPTION:
URL:https://villagecove.net/event/karaoke-at-saddleback-2018-10-02/
LOCATION:Saddleback Inn\, 282 S. State HWY 173\, Lake Arrowhead\, CA\, 92352\, United States
END:VEVENT
BEGIN:VEVENT
DTSTART;TZID=America/Los_Angeles:20180928T200000
DTEND;TZID=America/Los_Angeles:20180928T200000
DTSTAMP:20260419T224408
CREATED:20180716T225611Z
LAST-MODIFIED:20180716T225611Z
UID:1379-1538164800-1538164800@villagecove.net
SUMMARY:Karaoke at Saddleback!
DESCRIPTION:
URL:https://villagecove.net/event/karaoke-at-saddleback-2018-09-28/
LOCATION:Saddleback Inn\, 282 S. State HWY 173\, Lake Arrowhead\, CA\, 92352\, United States
END:VEVENT
BEGIN:VEVENT
DTSTART;TZID=America/Los_Angeles:20180925T200000
DTEND;TZID=America/Los_Angeles:20180925T200000
DTSTAMP:20260419T224408
CREATED:20180716T225611Z
LAST-MODIFIED:20180716T231909Z
UID:1273-1537905600-1537905600@villagecove.net
SUMMARY:Karaoke at Saddleback!
DESCRIPTION:
URL:https://villagecove.net/event/karaoke-at-saddleback-2018-09-25/
LOCATION:Saddleback Inn\, 282 S. State HWY 173\, Lake Arrowhead\, CA\, 92352\, United States
END:VEVENT
BEGIN:VEVENT
DTSTART;TZID=America/Los_Angeles:20180921T200000
DTEND;TZID=America/Los_Angeles:20180921T200000
DTSTAMP:20260419T224408
CREATED:20180716T225611Z
LAST-MODIFIED:20180716T225611Z
UID:1378-1537560000-1537560000@villagecove.net
SUMMARY:Karaoke at Saddleback!
DESCRIPTION:
URL:https://villagecove.net/event/karaoke-at-saddleback-2018-09-21/
LOCATION:Saddleback Inn\, 282 S. State HWY 173\, Lake Arrowhead\, CA\, 92352\, United States
END:VEVENT
BEGIN:VEVENT
DTSTART;TZID=America/Los_Angeles:20180918T200000
DTEND;TZID=America/Los_Angeles:20180918T200000
DTSTAMP:20260419T224408
CREATED:20180716T225611Z
LAST-MODIFIED:20180716T231909Z
UID:1272-1537300800-1537300800@villagecove.net
SUMMARY:Karaoke at Saddleback!
DESCRIPTION:
URL:https://villagecove.net/event/karaoke-at-saddleback-2018-09-18/
LOCATION:Saddleback Inn\, 282 S. State HWY 173\, Lake Arrowhead\, CA\, 92352\, United States
END:VEVENT
BEGIN:VEVENT
DTSTART;TZID=America/Los_Angeles:20180917T170000
DTEND;TZID=America/Los_Angeles:20180917T173000
DTSTAMP:20260419T224408
CREATED:20180716T232830Z
LAST-MODIFIED:20180716T233018Z
UID:1579-1537203600-1537205400@villagecove.net
SUMMARY:Executive Committee Meeting
DESCRIPTION:
URL:https://villagecove.net/event/executive-committee-meeting-2018-09-17/
LOCATION:Lake Arrowhead\, CA\, 92352\, United States
END:VEVENT
BEGIN:VEVENT
DTSTART;TZID=America/Los_Angeles:20180914T200000
DTEND;TZID=America/Los_Angeles:20180914T200000
DTSTAMP:20260419T224408
CREATED:20180716T225611Z
LAST-MODIFIED:20180716T225611Z
UID:1377-1536955200-1536955200@villagecove.net
SUMMARY:Karaoke at Saddleback!
DESCRIPTION:
URL:https://villagecove.net/event/karaoke-at-saddleback-2018-09-14/
LOCATION:Saddleback Inn\, 282 S. State HWY 173\, Lake Arrowhead\, CA\, 92352\, United States
END:VEVENT
BEGIN:VEVENT
DTSTART;TZID=America/Los_Angeles:20180911T200000
DTEND;TZID=America/Los_Angeles:20180911T200000
DTSTAMP:20260419T224408
CREATED:20180716T225611Z
LAST-MODIFIED:20180716T231908Z
UID:1271-1536696000-1536696000@villagecove.net
SUMMARY:Karaoke at Saddleback!
DESCRIPTION:
URL:https://villagecove.net/event/karaoke-at-saddleback-2018-09-11/
LOCATION:Saddleback Inn\, 282 S. State HWY 173\, Lake Arrowhead\, CA\, 92352\, United States
END:VEVENT
BEGIN:VEVENT
DTSTART;TZID=America/Los_Angeles:20180907T200000
DTEND;TZID=America/Los_Angeles:20180907T200000
DTSTAMP:20260419T224408
CREATED:20180716T225611Z
LAST-MODIFIED:20180716T225611Z
UID:1376-1536350400-1536350400@villagecove.net
SUMMARY:Karaoke at Saddleback!
DESCRIPTION:
URL:https://villagecove.net/event/karaoke-at-saddleback-2018-09-07/
LOCATION:Saddleback Inn\, 282 S. State HWY 173\, Lake Arrowhead\, CA\, 92352\, United States
END:VEVENT
BEGIN:VEVENT
DTSTART;TZID=America/Los_Angeles:20180904T200000
DTEND;TZID=America/Los_Angeles:20180904T200000
DTSTAMP:20260419T224408
CREATED:20180716T225611Z
LAST-MODIFIED:20180716T231908Z
UID:1270-1536091200-1536091200@villagecove.net
SUMMARY:Karaoke at Saddleback!
DESCRIPTION:
URL:https://villagecove.net/event/karaoke-at-saddleback-2018-09-04/
LOCATION:Saddleback Inn\, 282 S. State HWY 173\, Lake Arrowhead\, CA\, 92352\, United States
END:VEVENT
BEGIN:VEVENT
DTSTART;TZID=America/Los_Angeles:20180831T200000
DTEND;TZID=America/Los_Angeles:20180831T200000
DTSTAMP:20260419T224408
CREATED:20180716T225611Z
LAST-MODIFIED:20180716T225611Z
UID:1375-1535745600-1535745600@villagecove.net
SUMMARY:Karaoke at Saddleback!
DESCRIPTION:
URL:https://villagecove.net/event/karaoke-at-saddleback-2018-08-31/
LOCATION:Saddleback Inn\, 282 S. State HWY 173\, Lake Arrowhead\, CA\, 92352\, United States
END:VEVENT
BEGIN:VEVENT
DTSTART;TZID=America/Los_Angeles:20180828T200000
DTEND;TZID=America/Los_Angeles:20180828T200000
DTSTAMP:20260419T224408
CREATED:20180716T225611Z
LAST-MODIFIED:20180716T231908Z
UID:1269-1535486400-1535486400@villagecove.net
SUMMARY:Karaoke at Saddleback!
DESCRIPTION:
URL:https://villagecove.net/event/karaoke-at-saddleback-2018-08-28/
LOCATION:Saddleback Inn\, 282 S. State HWY 173\, Lake Arrowhead\, CA\, 92352\, United States
END:VEVENT
BEGIN:VEVENT
DTSTART;TZID=America/Los_Angeles:20180824T200000
DTEND;TZID=America/Los_Angeles:20180824T200000
DTSTAMP:20260419T224408
CREATED:20180716T225611Z
LAST-MODIFIED:20180716T225611Z
UID:1374-1535140800-1535140800@villagecove.net
SUMMARY:Karaoke at Saddleback!
DESCRIPTION:
URL:https://villagecove.net/event/karaoke-at-saddleback-2018-08-24/
LOCATION:Saddleback Inn\, 282 S. State HWY 173\, Lake Arrowhead\, CA\, 92352\, United States
END:VEVENT
BEGIN:VEVENT
DTSTART;TZID=America/Los_Angeles:20180821T200000
DTEND;TZID=America/Los_Angeles:20180821T200000
DTSTAMP:20260419T224408
CREATED:20180716T225611Z
LAST-MODIFIED:20180716T231908Z
UID:1268-1534881600-1534881600@villagecove.net
SUMMARY:Karaoke at Saddleback!
DESCRIPTION:
URL:https://villagecove.net/event/karaoke-at-saddleback-2018-08-21/
LOCATION:Saddleback Inn\, 282 S. State HWY 173\, Lake Arrowhead\, CA\, 92352\, United States
END:VEVENT
BEGIN:VEVENT
DTSTART;TZID=America/Los_Angeles:20180820T170000
DTEND;TZID=America/Los_Angeles:20180820T173000
DTSTAMP:20260419T224408
CREATED:20180716T232830Z
LAST-MODIFIED:20180716T233018Z
UID:1578-1534784400-1534786200@villagecove.net
SUMMARY:Executive Committee Meeting
DESCRIPTION:
URL:https://villagecove.net/event/executive-committee-meeting-2018-08-20/
LOCATION:Lake Arrowhead\, CA\, 92352\, United States
END:VEVENT
END:VCALENDAR