BEGIN:VCALENDAR
VERSION:2.0
PRODID:-//Village Cove - ECPv5.14.1//NONSGML v1.0//EN
CALSCALE:GREGORIAN
METHOD:PUBLISH
X-WR-CALNAME:Village Cove
X-ORIGINAL-URL:https://villagecove.net
X-WR-CALDESC:Events for Village Cove
REFRESH-INTERVAL;VALUE=DURATION:PT1H
X-Robots-Tag:noindex
X-PUBLISHED-TTL:PT1H
BEGIN:VTIMEZONE
TZID:America/Los_Angeles
BEGIN:DAYLIGHT
TZOFFSETFROM:-0800
TZOFFSETTO:-0700
TZNAME:PDT
DTSTART:20180311T100000
END:DAYLIGHT
BEGIN:STANDARD
TZOFFSETFROM:-0700
TZOFFSETTO:-0800
TZNAME:PST
DTSTART:20181104T090000
END:STANDARD
END:VTIMEZONE
BEGIN:VEVENT
DTSTART;TZID=America/Los_Angeles:20180618T170000
DTEND;TZID=America/Los_Angeles:20180618T173000
DTSTAMP:20260425T080928
CREATED:20180716T232830Z
LAST-MODIFIED:20180716T233018Z
UID:1577-1529341200-1529343000@villagecove.net
SUMMARY:Executive Committee Meeting
DESCRIPTION:
URL:https://villagecove.net/event/executive-committee-meeting-2018-06-18/
LOCATION:Lake Arrowhead\, CA\, 92352\, United States
END:VEVENT
BEGIN:VEVENT
DTSTART;TZID=America/Los_Angeles:20180618T173000
DTEND;TZID=America/Los_Angeles:20180618T180000
DTSTAMP:20260425T080928
CREATED:20180716T153237Z
LAST-MODIFIED:20180716T153237Z
UID:1620-1529343000-1529344800@villagecove.net
SUMMARY:Board of Directors Meeting
DESCRIPTION:
URL:https://villagecove.net/event/board-of-directors-meeting-2018-06-18/
LOCATION:Lake Arrowhead\, CA\, 92352\, United States
END:VEVENT
END:VCALENDAR